BEGIN:VCALENDAR
VERSION:2.0
PRODID:-//ChamberMaster//Event Calendar 2.0//EN
METHOD:PUBLISH
X-PUBLISHED-TTL:P3D
REFRESH-INTERVAL:P3D
CALSCALE:GREGORIAN
BEGIN:VEVENT
DTSTART;VALUE=DATE:20191017
DTEND;VALUE=DATE:20191019
TRANSP:TRANSPARENT
X-MICROSOFT-CDO-ALLDAYEVENT:TRUE
SUMMARY:2019 Endless Opportunities Hands-On Career Expo
DESCRIPTION:Join ABC North Alabama\, the Decatur-Morgan County Chamber of Commerce\, the Athens-Limestone Chamber of Commerce & Morgan County Economic Development Association for the 2019 Endless Opportunities Hands-On Career Expo.\n\n\n\nThursday & Friday\, Oct. 17-18\n\nCelebration Arena\, Priceville\n\n\n\nThis event will be attended by every 8th grade student in Morgan County\, Hartselle City\, Decatur City\, Athens City\, and Limestone County schools.\n\n\n\nVendors must register with Tiffany@abcnalabama.org to reserve booth space.
X-ALT-DESC;FMTTYPE=text/html:Join ABC North Alabama\, the Decatur-Morgan County Chamber of Commerce\, the Athens-Limestone Chamber of Commerce &amp\; Morgan County Economic Development Association for the 2019 Endless Opportunities Hands-On Career Expo.<br />\n<br />\nThursday &amp\; Friday\, Oct. 17-18<br />\nCelebration Arena\, Priceville<br />\n<br />\nThis event will be attended by every 8th grade student in Morgan County\, Hartselle City\, Decatur City\, Athens City\, and&nbsp\;Limestone County&nbsp\;schools.<br />\n<br />\nVendors must register with <a href="mailto:Tiffany@abcnalabama.org">Tiffany@abcnalabama.org</a> to reserve booth space.
LOCATION:Celebration Arena Priceville\, AL
UID:e.9143.794
SEQUENCE:3
DTSTAMP:20260426T002102Z
URL:https://business.abcnalabama.org/events/details/2019-endless-opportunities-hands-on-career-expo-794
END:VEVENT

END:VCALENDAR
