BEGIN:VCALENDAR
VERSION:2.0
PRODID:-//ChamberMaster//Event Calendar 2.0//EN
METHOD:PUBLISH
X-PUBLISHED-TTL:P3D
REFRESH-INTERVAL:P3D
CALSCALE:GREGORIAN
BEGIN:VEVENT
DTSTART;VALUE=DATE:20201016
DTEND;VALUE=DATE:20201017
TRANSP:TRANSPARENT
X-MICROSOFT-CDO-ALLDAYEVENT:TRUE
SUMMARY:2020 ABC Golf Classic presented by Lynn Layton Chevrolet & Marathon Electrical Contractors
DESCRIPTION:Join us for the 2020 ABC Golf Classic\n\nFriday\, Oct. 16th at Canebrake Club in Athens\n\n\n\nTeam + Cart: $600 (Morning & Afternoon flights available)
X-ALT-DESC;FMTTYPE=text/html:Join us for the 2020 ABC Golf Classic<br />\nFriday\, Oct. 16th at Canebrake Club in Athens<br />\n<br />\nTeam + Cart: $600 (Morning &amp\; Afternoon flights available)
LOCATION:
UID:e.9143.812
SEQUENCE:3
DTSTAMP:20260425T140107Z
URL:https://business.abcnalabama.org/events/details/2020-abc-golf-classic-presented-by-lynn-layton-chevrolet-marathon-electrical-contractors-812
END:VEVENT

END:VCALENDAR
