BEGIN:VCALENDAR
VERSION:2.0
PRODID:-//ChamberMaster//Event Calendar 2.0//EN
METHOD:PUBLISH
X-PUBLISHED-TTL:P3D
REFRESH-INTERVAL:P3D
CALSCALE:GREGORIAN
BEGIN:VEVENT
DTSTART:20201014T160000Z
DTEND:20201014T173000Z
X-MICROSOFT-CDO-ALLDAYEVENT:FALSE
SUMMARY:2020 Membership Appreciation Cookout
DESCRIPTION:Join us for our 2020 Membership Appreciation Cookout on Wednesday\, October 14 starting at 11:00 in the pavilion at the Huntsville Botanical Garden. There is no charge to attend\, but please RSVP so we may plan accordingly for food.\n\n\n\nSponsored by LBYD\, Inc.
X-ALT-DESC;FMTTYPE=text/html:Join us for our 2020 Membership Appreciation Cookout on Wednesday\, October 14 starting at 11:00 in the pavilion at the Huntsville&nbsp\;Botanical Garden. There is no charge to attend\, but please RSVP so we may plan accordingly for food.<br />\n<br />\nSponsored by LBYD\, Inc.&nbsp\;
LOCATION:Huntsville Botanical Garden 4747 Bob Wallace Ave Huntsville\, AL 35805
UID:e.9143.814
SEQUENCE:3
DTSTAMP:20260425T135410Z
URL:https://business.abcnalabama.org/events/details/2020-membership-appreciation-cookout-814
END:VEVENT

END:VCALENDAR
