BEGIN:VCALENDAR
VERSION:2.0
PRODID:-//ChamberMaster//Event Calendar 2.0//EN
METHOD:PUBLISH
X-PUBLISHED-TTL:P3D
REFRESH-INTERVAL:P3D
CALSCALE:GREGORIAN
BEGIN:VEVENT
DTSTART:20200605T130000Z
DTEND:20200605T210000Z
X-MICROSOFT-CDO-ALLDAYEVENT:FALSE
SUMMARY:2020 Spring Sporting Clay Tournament presented by Lynn Layton Chevrolet & Marathon Electrical Contractors
DESCRIPTION:Join us for our annual spring sporting clay tournament on Friday\, June 5 presented by Lynn Layton Chevrolet & Marathon Electrical Contractors. Lunch will be provided for all participants at 11:30 a.m.\n\n\n\nMorning Flight (8:00 a.m.) or Afternoon Flight (12:30 p.m.)\n\n4-Person Teams - $550 / Golf Cart Rental - $50
X-ALT-DESC;FMTTYPE=text/html:Join us for our annual spring sporting clay tournament on Friday\, June 5 presented by Lynn Layton Chevrolet &amp\; Marathon Electrical Contractors. Lunch will be provided&nbsp\;for all participants at 11:30 a.m.<br />\n<br />\nMorning Flight (8:00 a.m.) or Afternoon Flight (12:30 p.m.)<br />\n4-Person Teams - $550 / Golf Cart Rental - $50
LOCATION:27340 Wooley Springs Rd Athens\, AL
UID:e.9143.811
SEQUENCE:3
DTSTAMP:20260425T140214Z
URL:https://business.abcnalabama.org/events/details/2020-spring-sporting-clay-tournament-presented-by-lynn-layton-chevrolet-marathon-electrical-contractors-811
END:VEVENT

END:VCALENDAR
