BEGIN:VCALENDAR
VERSION:2.0
PRODID:-//ChamberMaster//Event Calendar 2.0//EN
METHOD:PUBLISH
X-PUBLISHED-TTL:P3D
REFRESH-INTERVAL:P3D
CALSCALE:GREGORIAN
BEGIN:VEVENT
DTSTART:20240710T161500Z
DTEND:20240710T180000Z
X-MICROSOFT-CDO-ALLDAYEVENT:FALSE
SUMMARY:2024 ABC Chapter Luncheon Series
DESCRIPTION:The July Chapter Meeting will be our annual STEP Participation Recognition for companies and your safety teams. Each company participating in ABC STEP will receive your 2024 certificate and plate for your large plaques. Please register all members of your team planning to attend.
X-ALT-DESC;FMTTYPE=text/html:The July Chapter Meeting will be our annual STEP Participation Recognition for companies and your safety teams. Each company participating in ABC STEP will receive your 2024 certificate and plate for your large plaques. Please register all members of your team planning to attend.&nbsp\;
LOCATION:Huntsville Botanical Garden The Grand Hall
UID:e.9143.1137
SEQUENCE:3
DTSTAMP:20260421T172338Z
URL:https://business.abcnalabama.org/events/details/2024-abc-chapter-luncheon-series-1137
END:VEVENT

END:VCALENDAR
