BEGIN:VCALENDAR
VERSION:2.0
PRODID:-//ChamberMaster//Event Calendar 2.0//EN
METHOD:PUBLISH
X-PUBLISHED-TTL:P3D
REFRESH-INTERVAL:P3D
CALSCALE:GREGORIAN
BEGIN:VEVENT
DTSTART:20241120T171500Z
DTEND:20241120T190000Z
X-MICROSOFT-CDO-ALLDAYEVENT:FALSE
SUMMARY:2024 ABC Chapter Luncheon Series
DESCRIPTION:2024 State of the Association Update with Chairman Zack Young
X-ALT-DESC;FMTTYPE=text/html:2024 State of the Association Update with Chairman Zack Young
LOCATION:Huntsville Botanical Garden The Grand Hall
UID:e.9143.1141
SEQUENCE:3
DTSTAMP:20260419T200649Z
URL:https://business.abcnalabama.org/events/details/2024-abc-chapter-luncheon-series-1141
END:VEVENT

END:VCALENDAR
