BEGIN:VCALENDAR
VERSION:2.0
PRODID:-//ChamberMaster//Event Calendar 2.0//EN
METHOD:PUBLISH
X-PUBLISHED-TTL:P3D
REFRESH-INTERVAL:P3D
CALSCALE:GREGORIAN
BEGIN:VEVENT
DTSTART:20240814T161500Z
DTEND:20240814T180000Z
X-MICROSOFT-CDO-ALLDAYEVENT:FALSE
SUMMARY:2024 ABC Chapter Luncheon Series: Alabama Speaker of the House Nathaniel Ledbetter
DESCRIPTION:Make plans to join us on Wednesday\, Aug. 14 for our monthly Chapter Luncheon featuring Alabama Speaker of the House Nathaniel Ledbetter. Register online or by emailing Erin@abcnalabama.org.
X-ALT-DESC;FMTTYPE=text/html:Make plans to join us on Wednesday\, Aug. 14 for our monthly Chapter Luncheon featuring Alabama Speaker of the House Nathaniel Ledbetter. Register online or by emailing Erin@abcnalabama.org.&nbsp\;
LOCATION:Huntsville Botanical Garden The Grand Hall
UID:e.9143.1138
SEQUENCE:3
DTSTAMP:20260421T154542Z
URL:https://business.abcnalabama.org/events/details/2024-abc-chapter-luncheon-series-alabama-speaker-of-the-house-nathaniel-ledbetter-1138
END:VEVENT

END:VCALENDAR
