BEGIN:VCALENDAR
VERSION:2.0
PRODID:-//ChamberMaster//Event Calendar 2.0//EN
METHOD:PUBLISH
X-PUBLISHED-TTL:P3D
REFRESH-INTERVAL:P3D
CALSCALE:GREGORIAN
BEGIN:VEVENT
DTSTART:20240214T171500Z
DTEND:20240214T190000Z
X-MICROSOFT-CDO-ALLDAYEVENT:FALSE
SUMMARY:2024 ABC Chapter Luncheon Series: Tiffany Loveless with the Alabama Licensing Board for General Contractors
DESCRIPTION:Keynote Speaker: Tiffany Loveless\, Alabama Licensing Board for General Contractors
X-ALT-DESC;FMTTYPE=text/html:Keynote Speaker: Tiffany Loveless\, Alabama Licensing Board for General Contractors&nbsp\;
LOCATION:Huntsville Botanical Garden The Grand Hall
UID:e.9143.1132
SEQUENCE:3
DTSTAMP:20260421T231925Z
URL:https://business.abcnalabama.org/events/details/2024-abc-chapter-luncheon-series-tiffany-loveless-with-the-alabama-licensing-board-for-general-contractors-1132
END:VEVENT

END:VCALENDAR
