BEGIN:VCALENDAR
VERSION:2.0
PRODID:-//ChamberMaster//Event Calendar 2.0//EN
METHOD:PUBLISH
X-PUBLISHED-TTL:P3D
REFRESH-INTERVAL:P3D
CALSCALE:GREGORIAN
BEGIN:VEVENT
DTSTART:20240515T161500Z
DTEND:20240515T180000Z
X-MICROSOFT-CDO-ALLDAYEVENT:FALSE
SUMMARY:2024 ABC Chapter Luncheon: Tech Trends for ABC Contractors and Artificial Intelligence’s impact on contractors
DESCRIPTION:Tech Trends for ABC Contractors and Artificial Intelligence's Impact on Contractors\n\n \n\nWith Matt Abeles\, ABC National VP of Construction Technology & Innovation\n\n \n\nWednesday\, May 15 at 11:15\n\nHuntsville Botanical Garden - The Grand Hall\n\n4747 Bob Wallace Ave\, Huntsville 35805
X-ALT-DESC;FMTTYPE=text/html:<div style="color: rgb(64\, 63\, 66)\; font-family: Arial\, Verdana\, Helvetica\, sans-serif\; font-size: 12px\; white-space-collapse: preserve\; text-align: center\;"><span style="font-size: 24px\;">Tech Trends for ABC Contractors and Artificial Intelligence&rsquo\;s Impact on Contractors</span></div>\n\n<div style="color: rgb(64\, 63\, 66)\; font-family: Arial\, Verdana\, Helvetica\, sans-serif\; font-size: 12px\; white-space-collapse: preserve\; text-align: center\;">&nbsp\;</div>\n\n<div style="color: rgb(64\, 63\, 66)\; font-family: Arial\, Verdana\, Helvetica\, sans-serif\; font-size: 12px\; white-space-collapse: preserve\; text-align: center\;"><span style="font-size: 24px\;">With Matt Abeles\, ABC National VP of Construction Technology &amp\; Innovation</span></div>\n\n<div style="color: rgb(64\, 63\, 66)\; font-family: Arial\, Verdana\, Helvetica\, sans-serif\; font-size: 12px\; white-space-collapse: preserve\; text-align: center\;">&nbsp\;</div>\n\n<div style="color: rgb(64\, 63\, 66)\; font-family: Arial\, Verdana\, Helvetica\, sans-serif\; font-size: 12px\; white-space-collapse: preserve\; text-align: center\;"><span style="font-size: 18px\; color: rgb(55\, 55\, 55)\;">Wednesday\, May 15 at 11:15</span></div>\n\n<div style="color: rgb(64\, 63\, 66)\; font-family: Arial\, Verdana\, Helvetica\, sans-serif\; font-size: 12px\; white-space-collapse: preserve\; text-align: center\;"><span style="font-size: 18px\; color: rgb(55\, 55\, 55)\;">Huntsville Botanical Garden - The Grand Hall</span></div>\n\n<div style="color: rgb(64\, 63\, 66)\; font-family: Arial\, Verdana\, Helvetica\, sans-serif\; font-size: 12px\; white-space-collapse: preserve\; text-align: center\;"><span style="font-size: 18px\; color: rgb(55\, 55\, 55)\;">4747 Bob Wallace Ave\, Huntsville 35805</span></div>\n
LOCATION:Huntsville Botanical Garden The Grand Hall
UID:e.9143.1135
SEQUENCE:3
DTSTAMP:20260421T190014Z
URL:https://business.abcnalabama.org/events/details/2024-abc-chapter-luncheon-tech-trends-for-abc-contractors-and-artificial-intelligence-s-impact-on-contractors-1135
END:VEVENT

END:VCALENDAR
