BEGIN:VCALENDAR
VERSION:2.0
PRODID:-//ChamberMaster//Event Calendar 2.0//EN
METHOD:PUBLISH
X-PUBLISHED-TTL:P3D
REFRESH-INTERVAL:P3D
CALSCALE:GREGORIAN
BEGIN:VEVENT
DTSTART;VALUE=DATE:20240507
DTEND;VALUE=DATE:20240508
TRANSP:TRANSPARENT
X-MICROSOFT-CDO-ALLDAYEVENT:TRUE
SUMMARY:2024 ABC Golf Classic
DESCRIPTION:Join ABC North Alabama on May 7th for our 2024 Golf Classic at Canebrake Club in Athens. \n\n\n\n4-Person Team with Cart: $650\n\nLunch provided for all golfers.
X-ALT-DESC;FMTTYPE=text/html:<span style="font-size:16px\;">Join ABC North Alabama on May 7th for our 2024 Golf Classic at Canebrake Club in Athens.&nbsp\;<br />\n<br />\n4-Person Team with Cart: $650<br />\nLunch provided for all golfers.&nbsp\;</span>
LOCATION:Canebrake Club of Athens 23015 Founders Cir Athens\, AL 35613
UID:e.9143.1181
SEQUENCE:3
DTSTAMP:20260421T200624Z
URL:https://business.abcnalabama.org/events/details/2024-abc-golf-classic-1181
END:VEVENT

END:VCALENDAR
