BEGIN:VCALENDAR
VERSION:2.0
PRODID:-//ChamberMaster//Event Calendar 2.0//EN
METHOD:PUBLISH
X-PUBLISHED-TTL:P3D
REFRESH-INTERVAL:P3D
CALSCALE:GREGORIAN
BEGIN:VEVENT
DTSTART:20241017T120000Z
DTEND:20241018T200000Z
X-MICROSOFT-CDO-ALLDAYEVENT:FALSE
SUMMARY:2024 Endless Opportunities Hands-On Career Expo
DESCRIPTION:Join ABC North Alabama and the Decatur-Morgan County Chamber of Commerce for the 2024 Endless Opportunities Hands-On Career Expo.\n\n\n\nThursday\, Oct. 17 - Friday\, Oct. 18\n\nIngalls Harbor Pavilion\, Decatur\n\n\n\nThis event will be attended by every 8th grade student in Morgan County\, Hartselle City\, Decatur City\, Limestone County and Athens City schools.\n\n\n\nVendors must register with Tiffany@abcnalabama.org to reserve booth space.
X-ALT-DESC;FMTTYPE=text/html:Join ABC North Alabama and the Decatur-Morgan County Chamber of Commerce for the 2024 Endless Opportunities Hands-On Career Expo.<br />\n<br />\nThursday\, Oct. 17 - Friday\, Oct. 18<br />\nIngalls Harbor Pavilion\, Decatur<br />\n<br />\nThis event will be attended by every 8th grade student in Morgan County\, Hartselle City\, Decatur City\, Limestone County and Athens City schools.<br />\n<br />\nVendors must register with <a href="mailto:Tiffany@abcnalabama.org">Tiffany@abcnalabama.org</a> to reserve booth space.
LOCATION:Ingalls Harbor Pavilion 802-A Wilson St NW\, Decatur\, AL 35601
UID:e.9143.1202
SEQUENCE:3
DTSTAMP:20260419T220638Z
URL:https://business.abcnalabama.org/events/details/2024-endless-opportunities-hands-on-career-expo-1202
END:VEVENT

END:VCALENDAR
