BEGIN:VCALENDAR
VERSION:2.0
PRODID:-//ChamberMaster//Event Calendar 2.0//EN
METHOD:PUBLISH
X-PUBLISHED-TTL:P3D
REFRESH-INTERVAL:P3D
CALSCALE:GREGORIAN
BEGIN:VEVENT
DTSTART:20240508T150000Z
DTEND:20240508T180000Z
X-MICROSOFT-CDO-ALLDAYEVENT:FALSE
SUMMARY:2024 Fall Protection Stand Down
DESCRIPTION:Join the ABC North Alabama Safety Committee for the 2024 Fall Protection Stand Down on Wednesday\, May 8th at 10:00am. Bring your harness for fit testing and enjoy lunch on us!
X-ALT-DESC;FMTTYPE=text/html:Join the ABC North Alabama Safety Committee for the 2024 Fall Protection Stand Down on Wednesday\, May 8th at 10:00am. Bring your harness for fit testing and enjoy lunch on us!
LOCATION:ABC North Alabama Office GPS: 105 Commerce Cir\, Madison\, AL 35758
UID:e.9143.1186
SEQUENCE:3
DTSTAMP:20260421T185716Z
URL:https://business.abcnalabama.org/events/details/2024-fall-protection-stand-down-1186
END:VEVENT

END:VCALENDAR
