BEGIN:VCALENDAR
VERSION:2.0
PRODID:-//ChamberMaster//Event Calendar 2.0//EN
METHOD:PUBLISH
X-PUBLISHED-TTL:P3D
REFRESH-INTERVAL:P3D
CALSCALE:GREGORIAN
BEGIN:VEVENT
DTSTART:20250611T161500Z
DTEND:20250611T180000Z
X-MICROSOFT-CDO-ALLDAYEVENT:FALSE
SUMMARY:2025 ABC Chapter Luncheon Series: Madison County Commission Chairman Mac McCutcheon
DESCRIPTION:Keynote Speaker: Chairman Mac McCutcheon\, Madison County Commission \n\nABC North Alabama Chapter Lifetime Member Inductions: Dupree Petty\, Jesse Stutts\, Bobby Allfrey\, Kathy Pigg\, Tim Wilson\, and Micah Bullard
X-ALT-DESC;FMTTYPE=text/html:Keynote Speaker: Chairman Mac McCutcheon\, Madison County Commission&nbsp\;<br />\nABC North Alabama Chapter Lifetime Member Inductions: Dupree Petty\, Jesse Stutts\, Bobby Allfrey\, Kathy Pigg\, Tim Wilson\, and Micah Bullard&nbsp\;
LOCATION:Huntsville Botanical Garden The Grand Hall
UID:e.9143.1213
SEQUENCE:3
DTSTAMP:20260421T083059Z
URL:https://business.abcnalabama.org/events/details/2025-abc-chapter-luncheon-series-madison-county-commission-chairman-mac-mccutcheon-1213
END:VEVENT

END:VCALENDAR
