BEGIN:VCALENDAR
VERSION:2.0
PRODID:-//ChamberMaster//Event Calendar 2.0//EN
METHOD:PUBLISH
X-PUBLISHED-TTL:P3D
REFRESH-INTERVAL:P3D
CALSCALE:GREGORIAN
BEGIN:VEVENT
DTSTART:20260114T171500Z
DTEND:20260114T190000Z
X-MICROSOFT-CDO-ALLDAYEVENT:FALSE
SUMMARY:2026 Monthly Chapter Luncheon: ABC Advocacy in Action
DESCRIPTION:Keynote: Kerrick Whisenant\, ABC SE Regional Vice Chairman
X-ALT-DESC;FMTTYPE=text/html:Keynote: Kerrick Whisenant\, ABC SE Regional Vice Chairman&nbsp\;
LOCATION:Huntsville Botanical Garden Grand Hall
UID:e.9143.1276
SEQUENCE:3
DTSTAMP:20260421T083023Z
URL:https://business.abcnalabama.org/events/details/2026-monthly-chapter-luncheon-abc-advocacy-in-action-1276
END:VEVENT

END:VCALENDAR
