BEGIN:VCALENDAR
VERSION:2.0
PRODID:-//ChamberMaster//Event Calendar 2.0//EN
METHOD:PUBLISH
X-PUBLISHED-TTL:P3D
REFRESH-INTERVAL:P3D
CALSCALE:GREGORIAN
BEGIN:VEVENT
DTSTART:20191024T180000Z
DTEND:20191024T210000Z
X-MICROSOFT-CDO-ALLDAYEVENT:FALSE
SUMMARY:2nd Annual ABC Topgolf Tournament presented by Lynn Layton Chevrolet & Marathon Electrical Contractors
DESCRIPTION:Join us for our 2nd Annual Topgolf Tournament on Thursday\, Oct. 24 at Topgolf Huntsville! Registration will begin at noon\, with tournament play from 1-4pm.\n\n\n\nEntry is $100/person. Enter as an individual or as a team (max of 6 participants per golf bay). For more info\, email Tiffany@abcnalabama.org.
X-ALT-DESC;FMTTYPE=text/html:Join us for our 2nd Annual Topgolf Tournament on Thursday\, Oct. 24 at Topgolf Huntsville! Registration will begin at noon\, with tournament play from 1-4pm.<br />\n<br />\nEntry is $100/person. Enter as an individual or as a team (max of 6&nbsp\;participants per golf bay).&nbsp\;For more info\, email <a href="mailto:Tiffany@abcnalabama.org">Tiffany@abcnalabama.org</a>. &nbsp\;&nbsp\;&nbsp\;&nbsp\;&nbsp\;&nbsp\;
LOCATION:Topgolf Huntsville
UID:e.9143.741
SEQUENCE:3
DTSTAMP:20260426T020127Z
URL:https://business.abcnalabama.org/events/details/2nd-annual-abc-topgolf-tournament-presented-by-lynn-layton-chevrolet-marathon-electrical-contractors-741
END:VEVENT

END:VCALENDAR
