BEGIN:VCALENDAR
VERSION:2.0
PRODID:-//ChamberMaster//Event Calendar 2.0//EN
METHOD:PUBLISH
X-PUBLISHED-TTL:P3D
REFRESH-INTERVAL:P3D
CALSCALE:GREGORIAN
BEGIN:VEVENT
DTSTART:20241107T200000Z
DTEND:20241107T230000Z
X-MICROSOFT-CDO-ALLDAYEVENT:FALSE
SUMMARY:7th Annual Topgolf Tournament
DESCRIPTION:Join us for our 7th Annual Topgolf Tournament on Thursday\, Nov 7th at Topgolf Huntsville! Tournament play from 2-5pm.\n\n\n\nEntry is $125/person. Enter as an individual or as a team (max of 6 participants per golf bay). For more info\, email amy@abcnalabama.org
X-ALT-DESC;FMTTYPE=text/html:Join us for our 7th Annual Topgolf Tournament on Thursday\, Nov 7th at Topgolf Huntsville! Tournament play from 2-5pm.<br />\n<br />\nEntry is $125/person. Enter as an individual or as a team (max of 6&nbsp\;participants per golf bay).&nbsp\;For more info\, email amy@abcnalabama.org&nbsp\; &nbsp\; &nbsp\; &nbsp\;&nbsp\;
LOCATION:Topgolf Huntsville 6100 Top Golf Dr NW Huntsville\, AL 35806
UID:e.9143.1178
SEQUENCE:3
DTSTAMP:20260419T202150Z
URL:https://business.abcnalabama.org/events/details/7th-annual-topgolf-tournament-1178
END:VEVENT

END:VCALENDAR
