BEGIN:VCALENDAR
VERSION:2.0
PRODID:-//ChamberMaster//Event Calendar 2.0//EN
METHOD:PUBLISH
X-PUBLISHED-TTL:P3D
REFRESH-INTERVAL:P3D
CALSCALE:GREGORIAN
BEGIN:VEVENT
DTSTART:20240716T180000Z
DTEND:20240716T190000Z
X-MICROSOFT-CDO-ALLDAYEVENT:FALSE
SUMMARY:A Conversation About Addiction: The Faces You Know and The Faces You Wouldn’t Expectt
DESCRIPTION:The construction industry has one of the highest rates of addiction and the stigma surrounding addiction is deeply ingrained in our culture. Join us for a candid conversation about addiction and recovery designed to provide accurate information\, develop awareness and promote empathy.
X-ALT-DESC;FMTTYPE=text/html:<p><span style="font-size:13.5pt\;font-family:&quot\;Arial&quot\;\,sans-serif\;color:black">The construction industry has one of the highest rates of addiction and the stigma surrounding addiction is deeply ingrained in our culture. Join us for a candid conversation about addiction and recovery designed to provide accurate information\, develop awareness and promote empathy.</span><span style="font-size:9.0pt\;font-family:&quot\;Arial&quot\;\,sans-serif\;color:#403F42"><o:p></o:p></span></p>\n
LOCATION:
UID:e.9143.1199
SEQUENCE:3
DTSTAMP:20260421T172846Z
URL:https://business.abcnalabama.org/events/details/a-conversation-about-addiction-the-faces-you-know-and-the-faces-you-wouldn-t-expectt-1199
END:VEVENT

END:VCALENDAR
