BEGIN:VCALENDAR
VERSION:2.0
PRODID:-//ChamberMaster//Event Calendar 2.0//EN
METHOD:PUBLISH
X-PUBLISHED-TTL:P3D
REFRESH-INTERVAL:P3D
CALSCALE:GREGORIAN
BEGIN:VEVENT
DTSTART:20200610T161500Z
DTEND:20200610T180000Z
X-MICROSOFT-CDO-ALLDAYEVENT:FALSE
SUMMARY:ABC Chapter Lunch: Josh Caray\, The Voice of the Rocket City Trash Pandas
DESCRIPTION:June 2020 Chapter Meeting featuring \n\nJosh Caray\, The Voice of the Rocket City Trash Pandas\n\n\n\n***Please note we will meet in the GRAND HALL in the new visitors' center at the Botanical Garden.\n\n \nJosh Caray is a veteran reporter\, anchor and play-by-play broadcaster who joined the Trash Pandas in October of 2019.  Prior to Rocket City\, Josh was the play-by-play voice for Stony Brook University football and men's basketball on Long Island\, as well as the Hudson Valley Renegades baseball team in the summer.\n\nJosh's last name is synonymous with baseball.  His father\, Skip\, was a broadcaster for Turner Sports and the Atlanta Braves for over 30 years\, while his grandfather\, Harry\, became known as the television voice of the Chicago Cubs in the 80s and 90s.  Harry Caray also called games for the Cardinals\, Athletics\, and White Sox\, and was inducted into the National Baseball Hall of Fame in 1989.  Josh's half-brother\, Chip\, is currently the Braves' TV broadcaster.
X-ALT-DESC;FMTTYPE=text/html:<span style="font-size:14px\;"><span style="font-family:arial\;">June 2020 Chapter Meeting featuring&nbsp\;<br />\nJosh Caray\, The Voice of the Rocket City Trash Pandas<br />\n<br />\n***Please note we will meet in the GRAND HALL in the new visitors&#39\; center at the Botanical Garden.</span></span><br />\n&nbsp\;\n<p style="background:white"><span style="font-size:14px\;"><span style="font-family:arial\;"><span style="color: rgb(51\, 51\, 51)\;">Josh Caray is a veteran reporter\, anchor&nbsp\;and&nbsp\;play-by-play broadcaster who joined the Trash Pandas in October of 2019.&nbsp\; Prior to Rocket City\, Josh was the play-by-play voice for Stony Brook University football&nbsp\;and&nbsp\;men&#39\;s basketball on Long Island\, as well as the Hudson Valley Renegades baseball team in the summer.</span></span></span></p>\n\n<p style="background:white"><span style="font-size:14px\;"><span style="font-family:arial\;"><span style="color: rgb(51\, 51\, 51)\;">Josh&#39\;s last name is synonymous with baseball.&nbsp\; His father\, Skip\, was a broadcaster for Turner Sports&nbsp\;and&nbsp\;the Atlanta Braves for over 30 years\, while his grandfather\, Harry\, became known as the television voice of the Chicago Cubs in the 80s&nbsp\;and&nbsp\;90s.&nbsp\; Harry Caray also called games for the Cardinals\, Athletics\,&nbsp\;and&nbsp\;White Sox\,&nbsp\;and&nbsp\;was inducted into the National Baseball Hall of Fame in 1989.&nbsp\; Josh&#39\;s half-brother\, Chip\, is currently the Braves&#39\; TV broadcaster.</span></span></span></p>\n
LOCATION:The Grand Hall Huntsville Botanical Garden 4747 Bob Wallace Ave Huntsville\, AL 35805
UID:e.9143.818
SEQUENCE:3
DTSTAMP:20260425T140321Z
URL:https://business.abcnalabama.org/events/details/abc-chapter-lunch-josh-caray-the-voice-of-the-rocket-city-trash-pandas-06-10-2020-818
END:VEVENT

END:VCALENDAR
