BEGIN:VCALENDAR
VERSION:2.0
PRODID:-//ChamberMaster//Event Calendar 2.0//EN
METHOD:PUBLISH
X-PUBLISHED-TTL:P3D
REFRESH-INTERVAL:P3D
CALSCALE:GREGORIAN
BEGIN:VEVENT
DTSTART:20200812T161500Z
DTEND:20200812T180000Z
X-MICROSOFT-CDO-ALLDAYEVENT:FALSE
SUMMARY:ABC Chapter Meeting: 2020 Safety Awards Celebration
DESCRIPTION:ABC North Alabama invites you join us for our \n\n2020 Safety Celebration Luncheon \n\nas we honor the achievements of this year's\n                            Safety Training Evaluation Process (STEP) Award Winners\n\n\n\nWednesday\, Aug. 12th\, 2020\n\n11:15 am\n\nHuntsville Botanical Garden\n\n4747 Bob Wallace Ave.\, Huntsville\, AL 35805
X-ALT-DESC;FMTTYPE=text/html:<p align="center" style="margin: 0in 0in 0pt\; text-align: center\;"><span style="color: rgb(118\, 118\, 118)\; font-family: &quot\;Arial&quot\;\,sans-serif\; font-size: 12pt\; mso-fareast-font-family: &quot\;Times New Roman&quot\;\;">ABC North Alabama invites you join us&nbsp\;for our </span></p>\n\n<p align="center" style="margin: 0in 0in 0pt\; text-align: center\;"><b><span style="color: rgb(118\, 118\, 118)\; font-family: &quot\;Arial&quot\;\,sans-serif\; font-size: 16.5pt\; mso-fareast-font-family: &quot\;Times New Roman&quot\;\;">2020 Safety Celebration Luncheon&nbsp\;</span></b></p>\n\n<p align="center" style="margin: 0in 0in 0pt\; text-align: center\;"><span style="color: rgb(118\, 118\, 118)\; font-family: &quot\;Arial&quot\;\,sans-serif\; font-size: 12pt\; mso-fareast-font-family: &quot\;Times New Roman&quot\;\;">as we honor the achievements of this year&#39\;s</span></p>\n&nbsp\;&nbsp\;&nbsp\;&nbsp\;&nbsp\;&nbsp\;&nbsp\;&nbsp\;&nbsp\;&nbsp\;&nbsp\;&nbsp\;&nbsp\;&nbsp\;&nbsp\;&nbsp\;&nbsp\;&nbsp\;&nbsp\;&nbsp\;&nbsp\;&nbsp\;&nbsp\;&nbsp\;&nbsp\;&nbsp\;&nbsp\;&nbsp\;<span style="color: rgb(118\, 118\, 118)\; font-family: &quot\;Arial&quot\;\,sans-serif\; font-size: 12pt\; mso-fareast-font-family: &quot\;Times New Roman&quot\;\; mso-ansi-language: EN-US\; mso-fareast-language: EN-US\; mso-bidi-language: AR-SA\;">Safety Training Evaluation Process (STEP) Award Winners</span>\n\n<p align="center" style="margin: 0in 0in 0pt\; text-align: center\;"><br />\n<b><span style="color: rgb(118\, 118\, 118)\; font-family: &quot\;Arial&quot\;\,sans-serif\; font-size: 12pt\; mso-fareast-font-family: &quot\;Times New Roman&quot\;\;">Wednesday\, Aug. 12th\, 2020</span></b></p>\n\n<p align="center" style="margin: 0in 0in 0pt\; text-align: center\;"><b><span style="color: rgb(118\, 118\, 118)\; font-family: &quot\;Arial&quot\;\,sans-serif\; font-size: 12pt\; mso-fareast-font-family: &quot\;Times New Roman&quot\;\;">11:15 am</span></b></p>\n\n<p align="center" style="margin: 0in 0in 0pt\; text-align: center\;"><b><span style="color: rgb(118\, 118\, 118)\; font-family: &quot\;Arial&quot\;\,sans-serif\; font-size: 12pt\; mso-fareast-font-family: &quot\;Times New Roman&quot\;\;">Huntsville Botanical Garden</span></b></p>\n\n<p align="center" style="margin: 0in 0in 0pt\; text-align: center\;"><span style="color: rgb(118\, 118\, 118)\; font-family: &quot\;Arial&quot\;\,sans-serif\; font-size: 12pt\; mso-fareast-font-family: &quot\;Times New Roman&quot\;\;">4747 Bob Wallace Ave.\, <span style="color: rgb(118\, 118\, 118)\; font-family: &quot\;Arial&quot\;\,sans-serif\; font-size: 12pt\; mso-fareast-font-family: &quot\;Times New Roman&quot\;\; mso-ansi-language: EN-US\; mso-fareast-language: EN-US\; mso-bidi-language: AR-SA\;">Huntsville\,&nbsp\;AL&nbsp\;35805</span></span></p>\n
LOCATION:Huntsville Botanical Garden The Arbor
UID:e.9143.865
SEQUENCE:3
DTSTAMP:20260425T111829Z
URL:https://business.abcnalabama.org/events/details/abc-chapter-meeting-2020-safety-awards-celebration-865
END:VEVENT

END:VCALENDAR
