BEGIN:VCALENDAR
VERSION:2.0
PRODID:-//ChamberMaster//Event Calendar 2.0//EN
METHOD:PUBLISH
X-PUBLISHED-TTL:P3D
REFRESH-INTERVAL:P3D
CALSCALE:GREGORIAN
BEGIN:VEVENT
DTSTART:20191009T161500Z
DTEND:20191009T180000Z
X-MICROSOFT-CDO-ALLDAYEVENT:FALSE
SUMMARY:ABC Chapter Meeting
DESCRIPTION:ABC North Alabama invites you join us for our \n\nOctober Chapter Meeting\n\nNetworking - 11:15\n\nLunch & Keynote: Sen. Sam Givhan - 11:30
X-ALT-DESC;FMTTYPE=text/html:<p align="center" style="margin: 0in 0in 0pt\; text-align: center\;"><span style="color: rgb(118\, 118\, 118)\; font-family: &quot\;Arial&quot\;\,sans-serif\; font-size: 12pt\; mso-fareast-font-family: &quot\;Times New Roman&quot\;\;">ABC North Alabama invites you join us&nbsp\;for our </span></p>\n\n<p align="center" style="margin: 0in 0in 0pt\; text-align: center\;"><b><span style="color: rgb(118\, 118\, 118)\; font-family: &quot\;Arial&quot\;\,sans-serif\; font-size: 16.5pt\; mso-fareast-font-family: &quot\;Times New Roman&quot\;\;">October Chapter Meeting</span></b></p>\n\n<p align="center" style="margin: 0in 0in 0pt\; text-align: center\;"><font color="#767676" size="3">Networking - 11:15</font></p>\n\n<p align="center" style="margin: 0in 0in 0pt\; text-align: center\;"><font color="#767676" size="3">Lunch &amp\; Keynote: Sen. Sam Givhan - 11:30</font></p>\n\n<p align="center" style="margin: 0in 0in 0pt\; text-align: center\;">&nbsp\;</p>\n
LOCATION:Huntsville Botanical Garden The Arbor
UID:e.9143.793
SEQUENCE:3
DTSTAMP:20260426T001201Z
URL:https://business.abcnalabama.org/events/details/abc-chapter-meeting-793
END:VEVENT

END:VCALENDAR
