BEGIN:VCALENDAR
VERSION:2.0
PRODID:-//ChamberMaster//Event Calendar 2.0//EN
METHOD:PUBLISH
X-PUBLISHED-TTL:P3D
REFRESH-INTERVAL:P3D
CALSCALE:GREGORIAN
BEGIN:VEVENT
DTSTART:20200212T171500Z
DTEND:20200212T190000Z
X-MICROSOFT-CDO-ALLDAYEVENT:FALSE
SUMMARY:ABC Chapter Meeting: Chairman Dale Strong\, Madison County Commission
DESCRIPTION:You're invited to join ABC North Alabama members for our monthly membership luncheon. Each month\, we bring political\, educational and industry-related topics to the forefront for you\, all while providing a relaxed environment for you to network with your peers.
X-ALT-DESC;FMTTYPE=text/html:You&#39\;re invited to join ABC North Alabama members for our monthly membership luncheon. Each month\, we bring political\, educational and industry-related topics to the forefront for you\, all while providing a relaxed environment for you to network with your peers.
LOCATION:The Arbor Huntsville Botanical Garden 4747 Bob Wallace Ave.
UID:e.9143.803
SEQUENCE:3
DTSTAMP:20260425T185649Z
URL:https://business.abcnalabama.org/events/details/abc-chapter-meeting-chairman-dale-strong-madison-county-commission-803
END:VEVENT

END:VCALENDAR
