BEGIN:VCALENDAR
VERSION:2.0
PRODID:-//ChamberMaster//Event Calendar 2.0//EN
METHOD:PUBLISH
X-PUBLISHED-TTL:P3D
REFRESH-INTERVAL:P3D
CALSCALE:GREGORIAN
BEGIN:VEVENT
DTSTART:20190911T161500Z
DTEND:20190911T180000Z
X-MICROSOFT-CDO-ALLDAYEVENT:FALSE
SUMMARY:ABC Chapter Meeting: Dr. Phillip Cleveland (Alabama Construction Industry Craft Training Board)
DESCRIPTION:Join us for our September meeting as we host Interim Director of the Alabama Construction Industry Craft Training Board\, Dr. Phillip Cleveland.\n\n\n\nAs a special treat\, there will be a CAT Heavy Equipment Simulator on hand for members to test thanks to the team at Thompson Tractor. The North Alabama Craft Training Foundation was awarded grant funding from the ACICTB to purchase a simulator for training efforts and we want you to try out the simulator to see how your team can benefit from training on this piece of equipment.\n\n\n\nOur meeting will be held in the Arbor at Huntsville Botanical Garden beginning at 11:15am.
X-ALT-DESC;FMTTYPE=text/html:Join us for our September meeting as we host Interim Director of the Alabama Construction Industry Craft Training Board\, Dr. Phillip Cleveland.<br />\n<br />\nAs a special treat\, there will be a CAT Heavy Equipment Simulator on hand for members to test thanks to the team at Thompson Tractor. The North Alabama Craft Training Foundation was awarded grant funding from the ACICTB to purchase a simulator for training efforts and we want you to try out the simulator to see how your team&nbsp\;can benefit from training on this piece of equipment.<br />\n<br />\nOur meeting will be held in the Arbor at Huntsville Botanical Garden beginning at 11:15am.
LOCATION:Huntsville Botanical Garden The Arbor 4747 Bob Wallace Ave. Huntsville\, AL 35805
UID:e.9143.791
SEQUENCE:3
DTSTAMP:20260426T015942Z
URL:https://business.abcnalabama.org/events/details/abc-chapter-meeting-dr-phillip-cleveland-alabama-construction-industry-craft-training-board-791
END:VEVENT

END:VCALENDAR
