BEGIN:VCALENDAR
VERSION:2.0
PRODID:-//ChamberMaster//Event Calendar 2.0//EN
METHOD:PUBLISH
X-PUBLISHED-TTL:P3D
REFRESH-INTERVAL:P3D
CALSCALE:GREGORIAN
BEGIN:VEVENT
DTSTART:20260918T130000Z
DTEND:20260918T210000Z
X-MICROSOFT-CDO-ALLDAYEVENT:FALSE
SUMMARY:ABC|FLX Pickleball Showdown
DESCRIPTION:Charity Tournament benefiting Manna House. Hosted by ABC Future Leader Exchange Program.
X-ALT-DESC;FMTTYPE=text/html:Charity Tournament benefiting Manna House. Hosted by ABC Future Leader Exchange Program.
LOCATION:The PICKLR: 6123 University Drive\, NW Suite 130 Huntsville\, AL 35806
UID:e.9143.1362
SEQUENCE:3
DTSTAMP:20260421T154120Z
URL:https://business.abcnalabama.org/events/details/abc-flx-pickleball-showdown-1362
END:VEVENT

END:VCALENDAR
