BEGIN:VCALENDAR
VERSION:2.0
PRODID:-//ChamberMaster//Event Calendar 2.0//EN
METHOD:PUBLISH
X-PUBLISHED-TTL:P3D
REFRESH-INTERVAL:P3D
CALSCALE:GREGORIAN
BEGIN:VEVENT
DTSTART:20191031T120000Z
DTEND:20191101T190000Z
X-MICROSOFT-CDO-ALLDAYEVENT:FALSE
SUMMARY:ABC/Home Depot Service Project Build Days
DESCRIPTION:ABC North Alabama is partnering with The Home Depot and Bearded Warriors to build an accessible ramp and deck for a local wounded Veteran and we need a few skilled workers to kick in and help. The Home Depot is funding the project and supplying materials and ABC is supplying manpower to complete this project for a family of seven in Marshall County. Here are the details:\n\nProject Address: 122 Union Chapel Rd\, Union Grove\, AL\n\nMaterials Delivered: Wednesday\, Oct. 30\n\nWork Days: 7am to 2pm on Thursday\, Oct. 31 and Friday\, Nov. 1 (construct deck\, ramp\, form\, pour and finish concrete sidewalk) \n\nTo Volunteer: Email Tiffany \nAdditional work days will be Thursday\, Nov. 7 and Friday\, Nov. 8 with assistance from Home Depot volunteers (mainly cleanup and landscaping).
X-ALT-DESC;FMTTYPE=text/html:<p><span style="font-size:10.5pt\;font-family:&quot\;Arial&quot\;\,sans-serif\;&#10\;mso-fareast-font-family:&quot\;Times New Roman&quot\;\;color:#403F42">ABC North Alabama is partnering with The Home Depot and Bearded Warriors to build an accessible ramp and deck for a local wounded Veteran and <b>we need a few skilled workers to kick in and help.</b> The Home Depot is funding the project and supplying materials and ABC is supplying manpower to complete this project for a family of seven in Marshall County. Here are the details:</span></p>\n\n<p><b><span style="font-size:10.5pt\;font-family:&quot\;Arial&quot\;\,sans-serif\;&#10\;mso-fareast-font-family:&quot\;Times New Roman&quot\;\;color:#403F42">Project Address:</span></b><span style="font-size:10.5pt\;font-family:&quot\;Arial&quot\;\,sans-serif\;mso-fareast-font-family:&#10\;&quot\;Times New Roman&quot\;\;color:#403F42"> 122 Union Chapel Rd\, Union Grove\, AL</span></p>\n\n<p><b><span style="font-size:10.5pt\;font-family:&quot\;Arial&quot\;\,sans-serif\;&#10\;mso-fareast-font-family:&quot\;Times New Roman&quot\;\;color:#403F42">Materials Delivered: </span></b><span style="font-size:10.5pt\;font-family:&quot\;Arial&quot\;\,sans-serif\;mso-fareast-font-family:&#10\;&quot\;Times New Roman&quot\;\;color:#403F42">Wednesday\, Oct. 30</span></p>\n\n<p><b><span style="font-size:10.5pt\;font-family:&quot\;Arial&quot\;\,sans-serif\;&#10\;mso-fareast-font-family:&quot\;Times New Roman&quot\;\;color:#403F42">Work Days: </span></b><span style="font-size:10.5pt\;font-family:&quot\;Arial&quot\;\,sans-serif\;mso-fareast-font-family:&#10\;&quot\;Times New Roman&quot\;\;color:#403F42">7am to 2pm on Thursday\, Oct. 31 and Friday\, Nov. 1 (construct deck\, ramp\, form\, pour and finish concrete sidewalk) </span></p>\n\n<p><b><span style="font-size:10.5pt\;font-family:&quot\;Arial&quot\;\,sans-serif\;&#10\;mso-fareast-font-family:&quot\;Times New Roman&quot\;\;color:#403F42">To Volunteer:</span></b><span style="font-size:10.5pt\;font-family:&quot\;Arial&quot\;\,sans-serif\;mso-fareast-font-family:&#10\;&quot\;Times New Roman&quot\;\;color:#403F42"> <a target="_blank"><span style="color:#09A3BA">Email Tiffany </span></a></span></p>\n<span style="font-size:10.5pt\;font-family:&quot\;Arial&quot\;\,sans-serif\;mso-fareast-font-family:&#10\;&quot\;Times New Roman&quot\;\;color:#403F42\;mso-ansi-language:EN-US\;mso-fareast-language:&#10\;EN-US\;mso-bidi-language:AR-SA">Additional work days will be Thursday\, Nov. 7 and Friday\, Nov. 8 with assistance from Home Depot volunteers (mainly cleanup and landscaping). </span>
LOCATION:122 Union Chapel Rd\, Union Grove\, AL
UID:e.9143.800
SEQUENCE:3
DTSTAMP:20260426T015714Z
URL:https://business.abcnalabama.org/events/details/abc-home-depot-service-project-build-days-800
END:VEVENT

END:VCALENDAR
