BEGIN:VCALENDAR
VERSION:2.0
PRODID:-//ChamberMaster//Event Calendar 2.0//EN
METHOD:PUBLISH
X-PUBLISHED-TTL:P3D
REFRESH-INTERVAL:P3D
CALSCALE:GREGORIAN
BEGIN:VEVENT
DTSTART:20260903T133000Z
DTEND:20260903T143000Z
X-MICROSOFT-CDO-ALLDAYEVENT:FALSE
SUMMARY:ABC Legislative Committee
DESCRIPTION:
X-ALT-DESC;FMTTYPE=text/html:
LOCATION:ABC North Alabama Office
UID:e.9143.1339
SEQUENCE:3
DTSTAMP:20260421T090343Z
URL:https://business.abcnalabama.org/events/details/abc-legislative-committee-1339
END:VEVENT

END:VCALENDAR
