BEGIN:VCALENDAR
VERSION:2.0
PRODID:-//ChamberMaster//Event Calendar 2.0//EN
METHOD:PUBLISH
X-PUBLISHED-TTL:P3D
REFRESH-INTERVAL:P3D
CALSCALE:GREGORIAN
BEGIN:VEVENT
DTSTART:20260821T163000Z
DTEND:20260821T180000Z
X-MICROSOFT-CDO-ALLDAYEVENT:FALSE
SUMMARY:ABC Membership Committee
DESCRIPTION:ABC Membership Committee Quarterly Meeting
X-ALT-DESC;FMTTYPE=text/html:ABC Membership Committee Quarterly Meeting
LOCATION:107 Commerce Cir. Madison\, AL 35758
UID:e.9143.1351
SEQUENCE:3
DTSTAMP:20260421T142601Z
URL:https://business.abcnalabama.org/events/details/abc-membership-committee-1351
END:VEVENT

END:VCALENDAR
