BEGIN:VCALENDAR
VERSION:2.0
PRODID:-//ChamberMaster//Event Calendar 2.0//EN
METHOD:PUBLISH
X-PUBLISHED-TTL:P3D
REFRESH-INTERVAL:P3D
CALSCALE:GREGORIAN
BEGIN:VEVENT
DTSTART:20240502T210000Z
DTEND:20240502T230000Z
X-MICROSOFT-CDO-ALLDAYEVENT:FALSE
SUMMARY:ABC On Tap at InnerSpace Brewing
DESCRIPTION:Join us for\n\nABC On Tap\n\nThursday\, May 2nd from 4:00 to 6:00 p.m.\n\nInnerSpace Brewing\n\n2414 Clinton Ave\, Huntsville\, AL 35805\n\nTwo free drink tickets per person! This will be a fun way to relax with other ABC North Alabama Members & introduce new companies to ABC. Spread the word & invite a friend in the construction industry.
X-ALT-DESC;FMTTYPE=text/html:<p style="text-align: center\;"><strong><span class="e2ma-style" style="font-size: 18px\;">Join us for<br />\n<span class="e2ma-style" style="font-size: 32px\;">ABC On Tap</span><br />\nThursday\, May 2nd from 4:00 to 6:00 p.m.<br />\nInnerSpace Brewing</span></strong><br />\n<strong><span class="e2ma-style" style="font-size: 18px\;">2414 Clinton Ave\, Huntsville\, AL 35805</span></strong></p>\n\n<p style="text-align: center\;">Two free drink tickets per person! This will be a fun way to relax with other ABC North Alabama Members &amp\; introduce new companies to ABC. Spread the word &amp\; invite a friend in the construction industry.</p>\n
LOCATION:2414 Clinton Ave\, Huntsville AL 35805
UID:e.9143.1183
SEQUENCE:3
DTSTAMP:20260421T200827Z
URL:https://business.abcnalabama.org/events/details/abc-on-tap-at-innerspace-brewing-1183
END:VEVENT

END:VCALENDAR
