BEGIN:VCALENDAR
VERSION:2.0
PRODID:-//ChamberMaster//Event Calendar 2.0//EN
METHOD:PUBLISH
X-PUBLISHED-TTL:P3D
REFRESH-INTERVAL:P3D
CALSCALE:GREGORIAN
BEGIN:VEVENT
DTSTART:20200915T210000Z
DTEND:20200915T230000Z
X-MICROSOFT-CDO-ALLDAYEVENT:FALSE
SUMMARY:ABC on Tap at The Brass Tap
DESCRIPTION:Join us for ABC on Tap\n\n\n\nTuesday\, Sept. 15 \n\n4:00 - 6:00 pm\n\n\n\nThe Brass Tap\n\n933 Bob Wallace Ave SW
X-ALT-DESC;FMTTYPE=text/html:Join us for ABC on Tap<br />\n<br />\nTuesday\, Sept. 15&nbsp\;<br />\n4:00 - 6:00 pm<br />\n<br />\nThe Brass Tap<br />\n933 Bob Wallace Ave SW<br />\n&nbsp\;
LOCATION:
UID:e.9143.876
SEQUENCE:3
DTSTAMP:20260425T130156Z
URL:https://business.abcnalabama.org/events/details/abc-on-tap-at-the-brass-tap-876
END:VEVENT

END:VCALENDAR
