BEGIN:VCALENDAR
VERSION:2.0
PRODID:-//ChamberMaster//Event Calendar 2.0//EN
METHOD:PUBLISH
X-PUBLISHED-TTL:P3D
REFRESH-INTERVAL:P3D
CALSCALE:GREGORIAN
BEGIN:VEVENT
DTSTART:20200625T210000Z
DTEND:20200625T230000Z
X-MICROSOFT-CDO-ALLDAYEVENT:FALSE
SUMMARY:ABC On Tap at The Nook
DESCRIPTION:Join us for\n\nABC On Tap\n\nThursday\, June 25 from 4:00 to 6:00 p.m.\n\nThe Nook \n\n3305 Bob Wallace Ave SW\, Huntsville\, AL 35805\n\nTwo free drink tickets per person courtesy of presenting sponsor Lynn Layton Chevrolet! This will be a fun way to relax with other ABC North Alabama Members & introduce new companies to ABC. Spread the word & invite a friend in the construction industry.
X-ALT-DESC;FMTTYPE=text/html:<p style="text-align: center\;"><strong><span class="e2ma-style" style="font-size: 18px\;">Join us for<br />\n<span class="e2ma-style" style="font-size: 32px\;">ABC On Tap</span><br />\nThursday\, June 25 from 4:00 to 6:00 p.m.<br />\nThe Nook </span></strong><br />\n<strong><span class="e2ma-style" style="font-size: 18px\;">3305 Bob Wallace Ave SW\, Huntsville\, AL 35805</span></strong></p>\n\n<p style="text-align: center\;">Two free drink tickets per person courtesy of presenting sponsor Lynn Layton Chevrolet! This will be a fun way to relax with other ABC North Alabama Members &amp\; introduce new companies to ABC. Spread the word &amp\; invite a friend in the construction industry.</p>\n
LOCATION:
UID:e.9143.852
SEQUENCE:3
DTSTAMP:20260425T151012Z
URL:https://business.abcnalabama.org/events/details/abc-on-tap-at-the-nook-852
END:VEVENT

END:VCALENDAR
