BEGIN:VCALENDAR
VERSION:2.0
PRODID:-//ChamberMaster//Event Calendar 2.0//EN
METHOD:PUBLISH
X-PUBLISHED-TTL:P3D
REFRESH-INTERVAL:P3D
CALSCALE:GREGORIAN
BEGIN:VEVENT
DTSTART:20191010T213000Z
DTEND:20191010T230000Z
X-MICROSOFT-CDO-ALLDAYEVENT:FALSE
SUMMARY:ABC On Tap @ Lone Goose Saloon
DESCRIPTION:Join us for\n\nABC On Tap\n\nThursday\, Oct. 10 from 4:30 to 6:00 p.m.\n\nLone Goose Saloon @ Campus 805\n\nThe first round is on us! This will be a fun way to relax with other ABC North Alabama Members & introduce new companies to ABC. Spread the word & invite a friend in the construction industry.
X-ALT-DESC;FMTTYPE=text/html:<p style="text-align: center\;"><strong><span class="e2ma-style" style="font-size: 18px\;">Join us for<br />\n<span class="e2ma-style" style="font-size: 32px\;">ABC On Tap</span><br />\nThursday\, Oct. 10 from 4:30 to 6:00 p.m.<br />\nLone Goose Saloon @ Campus 805</span></strong></p>\n\n<p style="text-align: center\;">The first round&nbsp\;is on us! This will be a fun way to relax with other ABC North Alabama Members &amp\; introduce new companies to ABC. Spread the word &amp\; invite a friend in the construction industry.</p>\n
LOCATION:
UID:e.9143.796
SEQUENCE:3
DTSTAMP:20260426T002051Z
URL:https://business.abcnalabama.org/events/details/abc-on-tap-lone-goose-saloon-796
END:VEVENT

END:VCALENDAR
