BEGIN:VCALENDAR
VERSION:2.0
PRODID:-//ChamberMaster//Event Calendar 2.0//EN
METHOD:PUBLISH
X-PUBLISHED-TTL:P3D
REFRESH-INTERVAL:P3D
CALSCALE:GREGORIAN
BEGIN:VEVENT
DTSTART:20201021T190000Z
DTEND:20201021T200000Z
X-MICROSOFT-CDO-ALLDAYEVENT:FALSE
SUMMARY:ABC's Fight Against Government-mandated Project Labor Agreements–A 2020 Update
DESCRIPTION:Date: Wednesday\, Oct. 21\n\nTime: 3 p.m. EDT \n\nSpeaker: Ben Brubeck\, ABC National \n\n \n\nGet the latest update about ABC's fight for fair and open competition against government-mandated project labor agreements. Participants will receive an overview of the contentious PLA issue and learn about the current status of federal and state policies on government-mandated PLAs and how the 2020 election outcome will shape future policies impacting the ability of merit shop contractors to compete on a level playing field to win public works contracts. Hear insights about a variety of ABC resources and legal\, public relations and grassroots tactics ABC members\, contractor employees and chapter leaders can utilize to become effective advocates for the merit shop contracting community in our continued fight for fair and open competition. \n\n \n\nRegister today.
X-ALT-DESC;FMTTYPE=text/html:<strong><span style="color:black\;"><span style="font-family:arial\,sans-serif\;"><span style="font-size:12.0pt\;">Date:</span></span></span></strong><span style="color:black\;"><span style="font-family:arial\,sans-serif\;"><span style="font-size:12.0pt\;">&nbsp\;Wednesday\, Oct. 21</span></span></span><br />\n<strong><span style="color:black\;"><span style="font-family:arial\,sans-serif\;"><span style="font-size:12.0pt\;">Time:</span></span></span></strong><span style="color:black\;"><span style="font-family:arial\,sans-serif\;"><span style="font-size:12.0pt\;">&nbsp\;3 p.m. EDT </span></span></span><br />\n<strong><span style="color:black\;"><span style="font-family:arial\,sans-serif\;"><span style="font-size:12.0pt\;">Speaker:</span></span></span></strong><span style="color:black\;"><span style="font-family:arial\,sans-serif\;"><span style="font-size:12.0pt\;"> Ben Brubeck\, ABC National </span></span></span><br />\n&nbsp\;<br />\n<span style="color:#101010\;"><span style="font-family:arial\,sans-serif\;"><span style="font-size:12.0pt\;">Get the latest update about ABC&rsquo\;s fight for fair and open competition against government-mandated project labor agreements. Participants will receive an overview of the contentious PLA issue and learn about the current status of federal and state policies on government-mandated PLAs and how the 2020 election outcome will shape future policies impacting the ability of merit shop contractors to compete on a level playing field to win public works contracts. Hear insights about a variety of ABC resources and legal\, public relations and grassroots tactics ABC members\, contractor employees and chapter leaders can utilize to become effective advocates for the merit shop contracting community in our continued fight for fair and open competition. </span></span></span><br />\n&nbsp\;<br />\n<span style="color:#403F42\;"><span style="font-family:arial\,sans-serif\;"><span style="font-size:9.0pt\;"><a href="http://r20.rs6.net/tn.jsp?f=00118JdyvG8nWq6nCNPLrMnmalnzaU977GVqfXYgyqhyOOKKhJKdsxlgKyPFXAz8NpMd9MmN9u6tDJcpVuLlT90Ov40OW3ZFCDJbzd6wRrfXUWPeuch5R07vGGtRTYesPoVRA0vdQUp3ctE9ncBY19hh0prH5o2tC9K9Si-3FSFUaOOSfWRXUNAawloX9hs0zjwX8TX_CU69QGZ53LCeHHRdg==&amp\;c=8367cwGrl0YggiSrZwcx1L9OScp5wwagF_0QZ8G_TlELyj-KF9EfKA==&amp\;ch=TYwhbMSHCjHuBHojy7iP8Isr0-VVtnvflqA2_xhpijemOadmKrHwlQ==" target="_blank"><span style="color:#09A3BA\;"><span style="font-size:12.0pt\;">Register today.</span></span></a></span></span></span>
LOCATION:
UID:e.9143.889
SEQUENCE:3
DTSTAMP:20260425T140102Z
URL:https://business.abcnalabama.org/events/details/abc-s-fight-against-government-mandated-project-labor-agreements-a-2020-update-889
END:VEVENT

END:VCALENDAR
