BEGIN:VCALENDAR
VERSION:2.0
PRODID:-//ChamberMaster//Event Calendar 2.0//EN
METHOD:PUBLISH
X-PUBLISHED-TTL:P3D
REFRESH-INTERVAL:P3D
CALSCALE:GREGORIAN
BEGIN:VEVENT
DTSTART:20200416T140000Z
DTEND:20200416T153000Z
X-MICROSOFT-CDO-ALLDAYEVENT:FALSE
SUMMARY:BMSS Presents: An Update for the Construction Industry within the COVID-19 Environment
DESCRIPTION:Please join us as BMSS professionals discuss the latest developments in the construction industry precipitated by the COVID-19 crisis.\n\nTo reserve your space in this webinar\, you MUST register at this link.\n\nAfter you register\, you will receive a confirmation email which will include a unique webinar access link only for your use. Please note\, the link below is unique to you. If you share this link\, anyone who uses it will be logged in as you. In order to receive CPE credit\, each person must have their own login.\n\nPlease submit any questions to marketing@bmss.com.
X-ALT-DESC;FMTTYPE=text/html:<p style="box-sizing: border-box\; margin: 0px 0px 10px\; line-height: 1.7\; color: rgb(33\, 37\, 41)\; font-family: &quot\;Work Sans&quot\;\, sans-serif\; font-size: 16px\; font-style: normal\; font-variant-ligatures: normal\; font-variant-caps: normal\; font-weight: 400\; letter-spacing: normal\; orphans: 2\; text-align: left\; text-indent: 0px\; text-transform: none\; white-space: normal\; widows: 2\; word-spacing: 0px\; -webkit-text-stroke-width: 0px\; background-color: rgb(255\, 255\, 255)\; text-decoration-style: initial\; text-decoration-color: initial\;">Please join us as BMSS professionals discuss the latest developments in the construction industry precipitated by the COVID-19 crisis.</p>\n\n<h4 style="box-sizing: border-box\; margin-top: 0px\; margin-bottom: 0.5rem\; font-family: &quot\;Roboto Slab&quot\;\, serif\; font-size: 20px\; color: rgb(33\, 37\, 41)\; font-style: normal\; font-variant-ligatures: normal\; font-variant-caps: normal\; letter-spacing: normal\; orphans: 2\; text-align: left\; text-indent: 0px\; text-transform: none\; white-space: normal\; widows: 2\; word-spacing: 0px\; -webkit-text-stroke-width: 0px\; background-color: rgb(255\, 255\, 255)\; text-decoration-style: initial\; text-decoration-color: initial\;"><strong style="box-sizing: border-box\; font-weight: bolder\;">To reserve your space in this webinar\, you MUST register at&nbsp\;<a href="https://bmss.zoom.us/webinar/register/WN_r5sJJTs-SFahWpd1Ln4aDQ" style="box-sizing: border-box\; color: rgb(108\, 194\, 74)\; text-decoration: none\; background-color: transparent\; transition: all 0.2s ease 0s\;">this link.</a></strong></h4>\n\n<p style="box-sizing: border-box\; margin: 0px 0px 10px\; line-height: 1.7\; color: rgb(33\, 37\, 41)\; font-family: &quot\;Work Sans&quot\;\, sans-serif\; font-size: 16px\; font-style: normal\; font-variant-ligatures: normal\; font-variant-caps: normal\; font-weight: 400\; letter-spacing: normal\; orphans: 2\; text-align: left\; text-indent: 0px\; text-transform: none\; white-space: normal\; widows: 2\; word-spacing: 0px\; -webkit-text-stroke-width: 0px\; background-color: rgb(255\, 255\, 255)\; text-decoration-style: initial\; text-decoration-color: initial\;">After you register\, you will receive a confirmation email which will include a unique webinar access link only for your use.&nbsp\;Please note\, the link below is unique to you. If you share this link\, anyone who uses it will be logged in as you. In order to receive CPE credit\, each person must have their own login.</p>\n\n<p style="box-sizing: border-box\; margin: 0px 0px 10px\; line-height: 1.7\; color: rgb(33\, 37\, 41)\; font-family: &quot\;Work Sans&quot\;\, sans-serif\; font-size: 16px\; font-style: normal\; font-variant-ligatures: normal\; font-variant-caps: normal\; font-weight: 400\; letter-spacing: normal\; orphans: 2\; text-align: left\; text-indent: 0px\; text-transform: none\; white-space: normal\; widows: 2\; word-spacing: 0px\; -webkit-text-stroke-width: 0px\; background-color: rgb(255\, 255\, 255)\; text-decoration-style: initial\; text-decoration-color: initial\;">Please submit any questions to marketing@bmss.com.</p>\n
LOCATION:
UID:e.9143.838
SEQUENCE:3
DTSTAMP:20260425T162841Z
URL:https://business.abcnalabama.org/events/details/bmss-presents-an-update-for-the-construction-industry-within-the-covid-19-environment-838
END:VEVENT

END:VCALENDAR
