BEGIN:VCALENDAR
VERSION:2.0
PRODID:-//ChamberMaster//Event Calendar 2.0//EN
METHOD:PUBLISH
X-PUBLISHED-TTL:P3D
REFRESH-INTERVAL:P3D
CALSCALE:GREGORIAN
BEGIN:VEVENT
DTSTART:20201118T171500Z
DTEND:20201118T190000Z
X-MICROSOFT-CDO-ALLDAYEVENT:FALSE
SUMMARY:Chapter Meeting: State of the Association Address with Chairman Joe Moon
DESCRIPTION:Join us for the November Chapter meeting to hear the 2020 State of the Association Address from Chairman Joe Moon. We will also swear in our 2021 Board of Directors and Officers.
X-ALT-DESC;FMTTYPE=text/html:Join us for the November Chapter meeting to hear the 2020 State of the Association Address from Chairman Joe Moon. We will also swear in our 2021 Board of Directors and Officers.
LOCATION:Huntsville Botanical Garden The Grand Hall
UID:e.9143.896
SEQUENCE:3
DTSTAMP:20260425T151303Z
URL:https://business.abcnalabama.org/events/details/chapter-meeting-state-of-the-association-address-with-chairman-joe-moon-896
END:VEVENT

END:VCALENDAR
