BEGIN:VCALENDAR
VERSION:2.0
PRODID:-//ChamberMaster//Event Calendar 2.0//EN
METHOD:PUBLISH
X-PUBLISHED-TTL:P3D
REFRESH-INTERVAL:P3D
CALSCALE:GREGORIAN
BEGIN:VEVENT
DTSTART:20231213T140000Z
DTEND:20231213T150000Z
X-MICROSOFT-CDO-ALLDAYEVENT:FALSE
SUMMARY:Coffee Break with Madison County Commission Chairman Mac McCutcheon
DESCRIPTION:You're invited to join ABC North Alabama as we host Madison County Commission Chairman Mac McCutcheon for a coffee break at the ABC office. There is no charge to attend\, but please RSVP.
X-ALT-DESC;FMTTYPE=text/html:You&#39\;re invited to join ABC North Alabama as we host Madison County Commission Chairman Mac McCutcheon for a coffee break at the ABC office. There is no charge to attend\, but please RSVP.&nbsp\;
LOCATION:ABC North Alabama Office GPS: 105 Commerce Circle\, Madison\, AL 35758
UID:e.9143.1158
SEQUENCE:3
DTSTAMP:20260422T064945Z
URL:https://business.abcnalabama.org/events/details/coffee-break-with-madison-county-commission-chairman-mac-mccutcheon-1158
END:VEVENT

END:VCALENDAR
