BEGIN:VCALENDAR
VERSION:2.0
PRODID:-//ChamberMaster//Event Calendar 2.0//EN
METHOD:PUBLISH
X-PUBLISHED-TTL:P3D
REFRESH-INTERVAL:P3D
CALSCALE:GREGORIAN
BEGIN:VEVENT
DTSTART:20230621T180000Z
DTEND:20230621T190000Z
X-MICROSOFT-CDO-ALLDAYEVENT:FALSE
SUMMARY:Construction Executive Webinar: Deep Dive Into Construction Work in Progress
DESCRIPTION:Like cloud and AI tools\, no-code business process automation is being adopted at speed across the construction industry. Organizations are finding great value in construction process automation software\, with tools that allow users to build out their own digital workflows with a drag-and-drop interface\, execute processes automatically and at speed and generate detailed reports to help users optimize their workflows.\n\n \n\nNo-code automation accelerates construction projects and helps users to execute processes with better accuracy and collaboration. The best news? It can be used for almost any business process.\n\n \n\nThis webinar will cover how the world of work is changing. Businesses are relying more on technology to execute administrative\, manual processes\, freeing up time for higher-value work. Almost any process across any industry can be automated in part. And the benefits are far-reaching\, from better compliance and governance\, less paperwork and operational efficiency to a big sometimes huge reduction in cost on site.
X-ALT-DESC;FMTTYPE=text/html:<span style="color:black\;"><span style="font-family:arial\,sans-serif\;">Like cloud and AI tools\, no-code business process automation is being adopted at speed across the construction industry. Organizations are finding great value in construction process automation software\, with tools that allow users to build out their own digital workflows with a drag-and-drop interface\, execute processes automatically and at speed and generate detailed reports to help users optimize their workflows.</span></span><br />\n&nbsp\;<br />\n<span style="color:black\;"><span style="font-family:arial\,sans-serif\;">No-code automation accelerates construction projects and helps users to execute processes with better accuracy and collaboration. The best news? It can be used for almost any business process.</span></span><br />\n&nbsp\;<br />\n<span style="color:black\;"><span style="font-family:arial\,sans-serif\;"><span style="font-size:12.0pt\;">This webinar will cover how the world of work is changing. Businesses are relying more on technology to execute administrative\, manual processes\, freeing up time for higher-value work. Almost any process across any industry can be automated in part. And the benefits are far-reaching\, from better compliance and governance\, less paperwork and operational efficiency to a big&mdash\;sometimes huge&mdash\;reduction in cost on site.</span></span></span>
LOCATION:
UID:e.9143.1120
SEQUENCE:3
DTSTAMP:20260421T182621Z
URL:https://business.abcnalabama.org/events/details/construction-executive-webinar-deep-dive-into-construction-work-in-progress-1120
END:VEVENT

END:VCALENDAR
