BEGIN:VCALENDAR
VERSION:2.0
PRODID:-//ChamberMaster//Event Calendar 2.0//EN
METHOD:PUBLISH
X-PUBLISHED-TTL:P3D
REFRESH-INTERVAL:P3D
CALSCALE:GREGORIAN
BEGIN:VEVENT
DTSTART:20200428T190000Z
DTEND:20200428T200000Z
X-MICROSOFT-CDO-ALLDAYEVENT:FALSE
SUMMARY:Construction Shut-downs: Technology to Secure your Jobsite
DESCRIPTION:Learn about a variety of technologies to help ensure security for your jobsites\, including intuitive software solutions and hardware that can immediately make an impact where you work. Attendees are encouraged to bring questions and challenges that need solving for the presenter to address.\n\n\n\nRegister here:\n\nhttps://register.gotowebinar.com/register/6212073977275474700
X-ALT-DESC;FMTTYPE=text/html:<span style="color: rgb(51\, 51\, 51)\; font-family: lato-regular\, HelveticaNeueW01-55Roma\, &quot\;Helvetica Neue&quot\;\, Helvetica\, Arial\, sans-serif\; font-size: 14px\; font-style: normal\; font-variant-ligatures: normal\; font-variant-caps: normal\; font-weight: 400\; letter-spacing: normal\; orphans: 2\; text-align: start\; text-indent: 0px\; text-transform: none\; white-space: pre-wrap\; widows: 2\; word-spacing: 0px\; -webkit-text-stroke-width: 0px\; background-color: rgb(255\, 255\, 255)\; text-decoration-style: initial\; text-decoration-color: initial\; display: inline !important\; float: none\;">Learn about a variety of technologies to help ensure security for your jobsites\, including intuitive software solutions and hardware that can immediately make an impact where you work. Attendees are encouraged to bring questions and challenges that need solving for the presenter to address.<br />\n<br />\nRegister here:</span><br />\n<a href="https://register.gotowebinar.com/register/6212073977275474700">https://register.gotowebinar.com/register/6212073977275474700</a>
LOCATION:
UID:e.9143.841
SEQUENCE:3
DTSTAMP:20260425T162609Z
URL:https://business.abcnalabama.org/events/details/construction-shut-downs-technology-to-secure-your-jobsite-841
END:VEVENT

END:VCALENDAR
