BEGIN:VCALENDAR
VERSION:2.0
PRODID:-//ChamberMaster//Event Calendar 2.0//EN
METHOD:PUBLISH
X-PUBLISHED-TTL:P3D
REFRESH-INTERVAL:P3D
CALSCALE:GREGORIAN
BEGIN:VEVENT
DTSTART:20200717T130000Z
DTEND:20200717T160000Z
X-MICROSOFT-CDO-ALLDAYEVENT:FALSE
SUMMARY:CPR Certification Course
DESCRIPTION:American Heart Association CPR and First Aid Course\n\nFriday\, July 17th\n\n8am-11am
X-ALT-DESC;FMTTYPE=text/html:American Heart Association CPR and First Aid Course<br />\nFriday\, July 17th<br />\n8am-11am<br />\n&nbsp\;
LOCATION:107 Commerce Circle Madison\, AL 35758
UID:e.9143.858
SEQUENCE:3
DTSTAMP:20260425T122704Z
URL:https://business.abcnalabama.org/events/details/cpr-certification-course-858
END:VEVENT

END:VCALENDAR
