BEGIN:VCALENDAR
VERSION:2.0
PRODID:-//ChamberMaster//Event Calendar 2.0//EN
METHOD:PUBLISH
X-PUBLISHED-TTL:P3D
REFRESH-INTERVAL:P3D
CALSCALE:GREGORIAN
BEGIN:VEVENT
DTSTART:20200717T180000Z
DTEND:20200717T210000Z
X-MICROSOFT-CDO-ALLDAYEVENT:FALSE
SUMMARY:CPR Certification Course
DESCRIPTION:American Heart Association CPR and First Aid Course\n\nFriday\, July 17th\n\n12pm - 3pm
X-ALT-DESC;FMTTYPE=text/html:American Heart Association CPR and First Aid Course<br />\nFriday\, July 17th<br />\n12pm - 3pm&nbsp\;<br />\n&nbsp\;
LOCATION:107 Commerce Circle Madison\, AL 35758
UID:e.9143.859
SEQUENCE:3
DTSTAMP:20260425T122838Z
URL:https://business.abcnalabama.org/events/details/cpr-certification-course-859
END:VEVENT

END:VCALENDAR
