BEGIN:VCALENDAR
VERSION:2.0
PRODID:-//ChamberMaster//Event Calendar 2.0//EN
METHOD:PUBLISH
X-PUBLISHED-TTL:P3D
REFRESH-INTERVAL:P3D
CALSCALE:GREGORIAN
BEGIN:VEVENT
DTSTART:20200828T130000Z
DTEND:20200828T160000Z
X-MICROSOFT-CDO-ALLDAYEVENT:FALSE
SUMMARY:CPR Certification Course
DESCRIPTION:American Heart Association CPR and First Aid Course\n\nFriday\, Aug. 28th\n\n8am-11am
X-ALT-DESC;FMTTYPE=text/html:American Heart Association CPR and First Aid Course<br />\nFriday\, Aug. 28th<br />\n8am-11am<br />\n&nbsp\;
LOCATION:107 Commerce Circle Madison\, AL 35758
UID:e.9143.863
SEQUENCE:3
DTSTAMP:20260425T112347Z
URL:https://business.abcnalabama.org/events/details/cpr-certification-course-863
END:VEVENT

END:VCALENDAR
