BEGIN:VCALENDAR
VERSION:2.0
PRODID:-//ChamberMaster//Event Calendar 2.0//EN
METHOD:PUBLISH
X-PUBLISHED-TTL:P3D
REFRESH-INTERVAL:P3D
CALSCALE:GREGORIAN
BEGIN:VEVENT
DTSTART:20200925T180000Z
DTEND:20200925T210000Z
X-MICROSOFT-CDO-ALLDAYEVENT:FALSE
SUMMARY:CPR Certification Course
DESCRIPTION:American Heart Association CPR and First Aid Course\n\nFriday\, Sept. 25th\n\n1pm - 4pm
X-ALT-DESC;FMTTYPE=text/html:American Heart Association CPR and First Aid Course<br />\nFriday\, Sept. 25th<br />\n1pm - 4pm&nbsp\;<br />\n&nbsp\;
LOCATION:107 Commerce Circle Madison\, AL 35758
UID:e.9143.873
SEQUENCE:3
DTSTAMP:20260425T124104Z
URL:https://business.abcnalabama.org/events/details/cpr-certification-course-873
END:VEVENT

END:VCALENDAR
