BEGIN:VCALENDAR
VERSION:2.0
PRODID:-//ChamberMaster//Event Calendar 2.0//EN
METHOD:PUBLISH
X-PUBLISHED-TTL:P3D
REFRESH-INTERVAL:P3D
CALSCALE:GREGORIAN
BEGIN:VEVENT
DTSTART:20200619T150000Z
DTEND:20200619T170000Z
X-MICROSOFT-CDO-ALLDAYEVENT:FALSE
SUMMARY:CPR/First Aid Certification Class
DESCRIPTION:ABC will be hosting an American Heart Association CPR certification class for members on a monthly basis.  The class will be at the ABC North Alabama office on Friday\, June 19 from 10:00am to noon.   Course cost is $65 per person.  To sign up for the class contact tjg@abcnalabama.org. Class is limited to 10 attendees\, so sign up early.
X-ALT-DESC;FMTTYPE=text/html:<span style="font-size: medium\;"><span style="font-family: calibri\;">ABC will be hosting an American Heart Association CPR certification class for members on a monthly basis.&nbsp\; The class will be at the ABC North Alabama office on Friday\, June 19 from 10:00am to noon. &nbsp\; Course cost is $65 per person.&nbsp\; To sign up for the class contact <a href="mailto:tjg@abcnalabama.org?subject=CPR%20Certification%20Class">tjg@abcnalabama.org</a>. </span></span><span style="font-size: medium\;"><span style="font-family: calibri\;">Class is limited to 10 attendees\, so sign up early.</span></span><br />\n&nbsp\;
LOCATION:ABCNA 107 Commerce Circle Madison\, AL 35678
UID:e.9143.847
SEQUENCE:3
DTSTAMP:20260425T134925Z
URL:https://business.abcnalabama.org/events/details/cpr-first-aid-certification-class-847
END:VEVENT

END:VCALENDAR
