BEGIN:VCALENDAR
VERSION:2.0
PRODID:-//ChamberMaster//Event Calendar 2.0//EN
METHOD:PUBLISH
X-PUBLISHED-TTL:P3D
REFRESH-INTERVAL:P3D
CALSCALE:GREGORIAN
BEGIN:VEVENT
DTSTART:20240405T120000Z
DTEND:20240405T160000Z
X-MICROSOFT-CDO-ALLDAYEVENT:FALSE
SUMMARY:CPR/First Aid Course 2024
DESCRIPTION:CPR/First Aid Certification Course 2024\n\nto be held at the ABC North Alabama Office
X-ALT-DESC;FMTTYPE=text/html:<div style="text-align: center\;"><span style="font-size: 22px\; color: black\; font-family: Arial\, Verdana\, Helvetica\, sans-serif\;">CPR/First Aid Certification Course 2024</span></div>\n\n<div style="text-align: center\;"><span style="font-size: 22px\; color: black\; font-family: Arial\, Verdana\, Helvetica\, sans-serif\;">to be held at the ABC North Alabama Office</span></div>\n
LOCATION:GPS Address: ABC North Alabama 105 Commerce Cir Madison\, AL 35758
UID:e.9143.1164
SEQUENCE:3
DTSTAMP:20260421T212943Z
URL:https://business.abcnalabama.org/events/details/cpr-first-aid-course-2024-1164
END:VEVENT

END:VCALENDAR
