BEGIN:VCALENDAR
VERSION:2.0
PRODID:-//ChamberMaster//Event Calendar 2.0//EN
METHOD:PUBLISH
X-PUBLISHED-TTL:P3D
REFRESH-INTERVAL:P3D
CALSCALE:GREGORIAN
BEGIN:VEVENT
DTSTART:20241115T130000Z
DTEND:20241115T170000Z
X-MICROSOFT-CDO-ALLDAYEVENT:FALSE
SUMMARY:CPR/First Aid Course 2024
DESCRIPTION:CPR/First Aid Certification Course 2024\n\nto be held at the ABC North Alabama Office\n\n \n\nThere will be two sessions on each of the following dates (7:00am and 12:00pm). Attendees should only attend one session. \n\n \n\nPlease specify a date and morning or afternoon session when registering. \n\nTo allow for more individualized instruction\, each session is \n\n limited to 10 attendees.\n\n \n\nJan. 26\n\nMarch 8\n\nApril 19\n\nJune 28\n\nJuly 26\n\nAug. 23\n\nSept. 20\n\nNov. 1\n\n \n\nCost: $65/person
X-ALT-DESC;FMTTYPE=text/html:<div style="text-align: center\;"><span style="font-size: 22px\; color: black\; font-family: Arial\, Verdana\, Helvetica\, sans-serif\;">CPR/First Aid Certification Course 2024</span></div>\n\n<div style="text-align: center\;"><span style="font-size: 22px\; color: black\; font-family: Arial\, Verdana\, Helvetica\, sans-serif\;">to be held at the ABC North Alabama Office</span></div>\n\n<div style="text-align: center\;">&nbsp\;</div>\n\n<div style="text-align: center\;"><span style="font-size: 16px\; color: black\; font-family: Arial\, Verdana\, Helvetica\, sans-serif\;">There will be two sessions on each of the following dates (7:00am and 12:00pm). Attendees should only attend one session. </span></div>\n\n<div style="text-align: center\;">&nbsp\;</div>\n\n<div style="text-align: center\;"><span style="font-size: 16px\; color: black\; font-family: Arial\, Verdana\, Helvetica\, sans-serif\;">Please specify a date and morning or afternoon session when registering. </span></div>\n\n<div style="text-align: center\;"><span style="font-size: 16px\; color: black\; font-family: Arial\, Verdana\, Helvetica\, sans-serif\;">To allow for more individualized instruction\, each session is </span></div>\n\n<div style="text-align: center\;"><span style="font-size: 16px\; color: black\; font-family: Arial\, Verdana\, Helvetica\, sans-serif\;">&#65279\;limited to 10 attendees.</span></div>\n\n<div style="text-align: center\;">&nbsp\;</div>\n\n<div style="text-align: center\;"><span style="font-size: 16px\; color: black\; font-family: Arial\, Verdana\, Helvetica\, sans-serif\;">Jan. 26</span></div>\n\n<div style="text-align: center\;"><span style="font-size: 16px\; color: black\; font-family: Arial\, Verdana\, Helvetica\, sans-serif\;">March 8</span></div>\n\n<div style="text-align: center\;"><font color="#000000" face="Arial\, Verdana\, Helvetica\, sans-serif"><span style="font-size: 16px\;">April 19</span></font></div>\n\n<div style="text-align: center\;"><span style="font-size: 16px\; color: black\; font-family: Arial\, Verdana\, Helvetica\, sans-serif\;">June 28</span></div>\n\n<div style="text-align: center\;"><span style="font-size: 16px\; color: black\; font-family: Arial\, Verdana\, Helvetica\, sans-serif\;">July 26</span></div>\n\n<div style="text-align: center\;"><span style="font-size: 16px\; color: black\; font-family: Arial\, Verdana\, Helvetica\, sans-serif\;">Aug. 23</span></div>\n\n<div style="text-align: center\;"><span style="font-size: 16px\; color: black\; font-family: Arial\, Verdana\, Helvetica\, sans-serif\;">Sept. 20</span></div>\n\n<div style="text-align: center\;"><span style="font-size: 16px\; color: black\; font-family: Arial\, Verdana\, Helvetica\, sans-serif\;">Nov. 1</span></div>\n\n<div style="text-align: center\;">&nbsp\;</div>\n\n<div style="text-align: center\;"><span style="font-size: 16px\; color: black\; font-family: Arial\, Verdana\, Helvetica\, sans-serif\;">Cost: $65/person</span></div>\n
LOCATION:ABC North Alabama 105 Commerce Cir Madison\, AL 35758
UID:e.9143.1174
SEQUENCE:3
DTSTAMP:20260419T201645Z
URL:https://business.abcnalabama.org/events/details/cpr-first-aid-course-2024-1174
END:VEVENT

END:VCALENDAR
