BEGIN:VCALENDAR
VERSION:2.0
PRODID:-//ChamberMaster//Event Calendar 2.0//EN
METHOD:PUBLISH
X-PUBLISHED-TTL:P3D
REFRESH-INTERVAL:P3D
CALSCALE:GREGORIAN
BEGIN:VEVENT
DTSTART:20200811T190000Z
DTEND:20200811T200000Z
X-MICROSOFT-CDO-ALLDAYEVENT:FALSE
SUMMARY:Culture\, Diversity and Innovation
DESCRIPTION:For mid-sized contractors\, implementing new technology solutions in the office and on the jobsite can present serious challenges in terms of integration and practical adoption. How do our industry's top performers get this right? Developing a company culture that values diversity and innovation is essential to embracing technology and recruiting the workforce of the future. Learn how the intersection of culture\, diversity and innovation can help you mentor the next generation of leaders within your company to unlock better safety performance\, operational efficiency and job satisfaction.\n\n \n\nRegister today.
X-ALT-DESC;FMTTYPE=text/html:<span style="color:black\;"><span style="font-family:arial\,sans-serif\;"><span style="font-size:12.0pt\;">For mid-sized contractors\, implementing new technology solutions in the office and on the jobsite can present serious challenges in terms of integration and practical adoption. How do our industry&rsquo\;s top performers get this right? Developing a company culture that values diversity and innovation is essential to embracing technology and recruiting the workforce of the future. Learn how the intersection of culture\, diversity and innovation can help you mentor the next generation of leaders within your company to unlock better safety performance\, operational efficiency and job satisfaction.</span></span></span><br />\n&nbsp\;<br />\n<span style="color:#403F42\;"><span style="font-family:arial\,sans-serif\;"><span style="font-size:9.0pt\;"><a href="http://r20.rs6.net/tn.jsp?f=001qgUsfrhOhOqOgsj-MmGcBCEPzZtgIL-9Fyojuh_bve-8ClUleldJk0cz1fVDzavWv_RLXT8Y5eIbquWM97g4fhHxyrHhzD1kFyuWliQVcUItSDXO3jCMvB1unSoT6sQk_ICx9uJ3At6eFTu-h88UzpkI54UbqWmTSfQfmCdINSSKZRBiCXIk6c_CPazoj4qSIwcGx2qmXwyGU7xd9YlQJQ==&amp\;c=ivrFQg2PppkTd06Zy4K7q1F7dVXUUH5X3Gg5NmOQG2NSQMfGHc4tdw==&amp\;ch=tsaMfQrN5fE2kdfVVTI10jzprEmGGswGMmgVWzZNCc1k84--alMWLg==" target="_blank"><span style="color:#09A3BA\;"><span style="font-size:12.0pt\;">Register today.</span></span></a></span></span></span>
LOCATION:
UID:e.9143.870
SEQUENCE:3
DTSTAMP:20260425T112636Z
URL:https://business.abcnalabama.org/events/details/culture-diversity-and-innovation-870
END:VEVENT

END:VCALENDAR
