BEGIN:VCALENDAR
VERSION:2.0
PRODID:-//ChamberMaster//Event Calendar 2.0//EN
METHOD:PUBLISH
X-PUBLISHED-TTL:P3D
REFRESH-INTERVAL:P3D
CALSCALE:GREGORIAN
BEGIN:VEVENT
DTSTART:20200707T190000Z
DTEND:20200707T200000Z
X-MICROSOFT-CDO-ALLDAYEVENT:FALSE
SUMMARY:Cybersecurity Health and Compliance: Cybersecurity Best Practices in Commercial Businesses and Government Contracting
DESCRIPTION:Date: Tuesday\, July 7\n\nTime: 3 p.m. EDT\n\nSpeakers: David Lucas\, Bradley\; Scott Gray\, Gray Analytics\; Mike Manley\, Gray Analytics\n\nModerator: David Pugh\, Bradley\n\n \n\nLearn how to protect critical data assets through basic cybersecurity hygiene\, including email and password security and social media best practices. Other topics to be addressed include insider threat preparedness\, cybersecurity and privacy issues in the remote work environment. In addition\, government regulations and compliance topics\, such as the coming Cybersecurity Maturity Model Certification and the current compliance and reporting requirements based on the Defense Federal Acquisition Regulation Supplement 252.204-7000 will be covered.\n\n \n\nRegister today.
X-ALT-DESC;FMTTYPE=text/html:<strong><span style="color:#0A0A0A\;"><span style="font-family:arial\,sans-serif\;"><span style="font-size:12.0pt\;">Date:</span></span></span></strong><span style="color:#0A0A0A\;"><span style="font-family:arial\,sans-serif\;"><span style="font-size:12.0pt\;">&nbsp\;Tuesday\, July 7</span></span></span><br />\n<strong><span style="color:#0A0A0A\;"><span style="font-family:arial\,sans-serif\;"><span style="font-size:12.0pt\;">Time:</span></span></span></strong><span style="color:#0A0A0A\;"><span style="font-family:arial\,sans-serif\;"><span style="font-size:12.0pt\;">&nbsp\;3 p.m. EDT</span></span></span><br />\n<strong><span style="color:#0A0A0A\;"><span style="font-family:arial\,sans-serif\;"><span style="font-size:12.0pt\;">Speakers:</span></span></span></strong><span style="color:#0A0A0A\;"><span style="font-family:arial\,sans-serif\;"><span style="font-size:12.0pt\;">&nbsp\;David Lucas\, Bradley\; Scott Gray\, Gray Analytics\; Mike Manley\, Gray Analytics</span></span></span><br />\n<strong><span style="color:#0A0A0A\;"><span style="font-family:arial\,sans-serif\;"><span style="font-size:12.0pt\;">Moderator:</span></span></span></strong><span style="color:#0A0A0A\;"><span style="font-family:arial\,sans-serif\;"><span style="font-size:12.0pt\;">&nbsp\;David Pugh\, Bradley</span></span></span><br />\n&nbsp\;<br />\n<span style="color:#0A0A0A\;"><span style="font-family:arial\,sans-serif\;"><span style="font-size:12.0pt\;">Learn how to protect critical data assets through basic cybersecurity hygiene\, including email and password security and social media best practices. Other topics to be addressed include insider threat preparedness\, cybersecurity and privacy issues in the remote work environment. In addition\, government regulations and compliance topics\, such as the coming Cybersecurity Maturity Model Certification and the current compliance and reporting requirements based on the Defense Federal Acquisition Regulation Supplement 252.204-7000 will be covered.</span></span></span><br />\n&nbsp\;<br />\n<span style="color:#403F42\;"><span style="font-family:arial\,sans-serif\;"><span style="font-size:9.0pt\;"><a href="http://r20.rs6.net/tn.jsp?f=001ibeX7XvUFO3XipOA6CmCqGs9hvBdUKy7MHsCrHYzB6nvuzYRD5Dy73SVcyorIBYJ3IlBg9zRiAT3m8uYaPw8pdTpCVsWf59s7QrN_7xmSrLbV9MTUCJ-EOSdf7ZQ6v0Bs027aKcUVjo9h_0urZDhNyn0CkXv5RYKUVlQXb4Elyx1UjTuj-qhSUEV6Ksfs6LIc84ALqUa47Qga8OWl-kZSA==&amp\;c=z_4KgMmUiL3yu4ERW_GoD6vhsGid3f8jDH-Ou3wwJz9rRsIebtBTZg==&amp\;ch=LTYl3T2DaE_yMCkHWTEqnOoVXVwErilAGqdPPtJXpK36fKFG4TImXA==" target="_blank"><span style="color:#09A3BA\;"><span style="font-size:12.0pt\;">Register today.</span></span></a></span></span></span>
LOCATION:
UID:e.9143.860
SEQUENCE:3
DTSTAMP:20260425T123549Z
URL:https://business.abcnalabama.org/events/details/cybersecurity-health-and-compliance-cybersecurity-best-practices-in-commercial-businesses-and-government-contracting-860
END:VEVENT

END:VCALENDAR
