BEGIN:VCALENDAR
VERSION:2.0
PRODID:-//ChamberMaster//Event Calendar 2.0//EN
METHOD:PUBLISH
X-PUBLISHED-TTL:P3D
REFRESH-INTERVAL:P3D
CALSCALE:GREGORIAN
BEGIN:VEVENT
DTSTART:20201118T190000Z
DTEND:20201118T200000Z
X-MICROSOFT-CDO-ALLDAYEVENT:FALSE
SUMMARY:Developing Business Strategies to Help Contractors During Difficult Times
DESCRIPTION:Speaker: Eric Newton\, Prophix Software \n\nModerator: Maggie Murphy\, ABC National \n\n \n\nContractors have been tasked with finding new ways to run their businesses\, putting finance teams at the center of this "new normal." In this webinar\, we will focus on key data points that businesses should focus on to not only monitor for market conditions\, but also to gain a competitive edge over their peers. There will also be a discussion on critical business reports that every contractor should monitor and measure.\n\n \n\nRegister today.
X-ALT-DESC;FMTTYPE=text/html:<strong><span style="color:black\;"><span style="font-family:arial\,sans-serif\;"><span style="font-size:12.0pt\;">Speaker: </span></span></span></strong><span style="color:black\;"><span style="font-family:arial\,sans-serif\;"><span style="font-size:12.0pt\;">Eric Newton\, Prophix Software </span></span></span><br />\n<strong><span style="color:black\;"><span style="font-family:arial\,sans-serif\;"><span style="font-size:12.0pt\;">Moderator:</span></span></span></strong><span style="color:black\;"><span style="font-family:arial\,sans-serif\;"><span style="font-size:12.0pt\;"> Maggie Murphy\, ABC National </span></span></span><br />\n&nbsp\;<br />\n<span style="color:#212121\;"><span style="font-family:arial\,sans-serif\;"><span style="font-size:12.0pt\;">Contractors have been tasked with finding new ways to run their businesses\, putting finance teams at the center of this &ldquo\;new normal.&rdquo\; In this webinar\, we will focus on key data points that businesses should focus on to not only monitor for market conditions\, but also to gain a competitive edge over their peers. There will also be a discussion on critical business reports that every contractor should monitor and measure.</span></span></span><br />\n&nbsp\;<br />\n<span style="color:#403F42\;"><span style="font-family:arial\,sans-serif\;"><span style="font-size:9.0pt\;"><a href="http://r20.rs6.net/tn.jsp?f=001ZizGWE3MA5TBnwv9cNegDH6HIVO20R9mK2pN7TBdyKA2A8iw_TK5E4jdPwAY5WRHVPxWzmwORher3SlXK0GTex8W5RqHVRN7uUhSkeIkUiMd0r6KlWrMVwk8uJLAS0i0Y9eqiYulL_26C1IB8wLgSwjPopSetMalT23OzE_4leVbZ3xfwuX5d2kM3G01_VPGptp1O6swPGBC4zVdKkRivlOI8Ixzk0Mt&amp\;c=L0owhvnW5I0OY_qurVVQxAaccHuq7MG3rFcCXSExDgbccrzuEoRIhA==&amp\;ch=tUj-JOjoC69Qrg9nEgXZvpZHOsLj_pOjvZJbhkg5JhYJbN-e5PofOw==" target="_blank"><span style="color:#09A3BA\;"><span style="font-size:12.0pt\;">Register today.</span></span></a></span></span></span>
LOCATION:
UID:e.9143.898
SEQUENCE:3
DTSTAMP:20260425T151012Z
URL:https://business.abcnalabama.org/events/details/developing-business-strategies-to-help-contractors-during-difficult-times-898
END:VEVENT

END:VCALENDAR
