BEGIN:VCALENDAR
VERSION:2.0
PRODID:-//ChamberMaster//Event Calendar 2.0//EN
METHOD:PUBLISH
X-PUBLISHED-TTL:P3D
REFRESH-INTERVAL:P3D
CALSCALE:GREGORIAN
BEGIN:VEVENT
DTSTART:20240613T140000Z
DTEND:20240613T150000Z
X-MICROSOFT-CDO-ALLDAYEVENT:FALSE
SUMMARY:Excellence in Construction Workshop
DESCRIPTION:2024 Excellence in Construction Workshop\n\nThursday\, June 13\n\n\n\n\n\nLearn about this year's EIC entry requirements & the online submittal process.
X-ALT-DESC;FMTTYPE=text/html:2024 Excellence in Construction Workshop<br />\nThursday\, June 13<br />\n<br />\n<br />\nLearn about this year&#39\;s EIC entry requirements &amp\; the online submittal process.
LOCATION:ABC North Alabama GPS Address: 105 Commerce Circle Madison\, AL 35758
UID:e.9143.1187
SEQUENCE:3
DTSTAMP:20260421T172137Z
URL:https://business.abcnalabama.org/events/details/excellence-in-construction-workshop-1187
END:VEVENT

END:VCALENDAR
