BEGIN:VCALENDAR
VERSION:2.0
PRODID:-//ChamberMaster//Event Calendar 2.0//EN
METHOD:PUBLISH
X-PUBLISHED-TTL:P3D
REFRESH-INTERVAL:P3D
CALSCALE:GREGORIAN
BEGIN:VEVENT
DTSTART:20190906T130000Z
DTEND:20190906T190000Z
X-MICROSOFT-CDO-ALLDAYEVENT:FALSE
SUMMARY:First Aid/CPR/AED Certification Class
DESCRIPTION:TVTC will be hosting a First Aid/CPR/AED certification class for the ABC of North Alabama Safety Committee.  The class will be at the ABC North Alabama office on Friday\, Sept. from 8-2.  This is a ONE TIME offering of the class\, and only available to ABC Members.  Course cost is $45 per person and includes lunch.  To sign up for the class contact Daphne@abcnalabama.org or call 256-355-1168. Class is limited\, so sign up early.
X-ALT-DESC;FMTTYPE=text/html:<span style="font-size: medium\;"><span style="font-family: calibri\;">TVTC will be hosting a First Aid/CPR/AED certification class for the ABC of North Alabama Safety Committee.&nbsp\; The class will be at the ABC North Alabama office on Friday\, Sept. from 8-2.&nbsp\; This is a ONE TIME offering of the class\, and only available to ABC Members.&nbsp\; Course cost is $45 per person and includes lunch.&nbsp\; To sign up for the class contact&nbsp\;<a href="mailto:Daphne@abcnalabama.org">Daphne@abcnalabama.org</a> or call 256-355-1168.</span></span><span style="font-size: medium\;"><span style="font-family: calibri\;">&nbsp\;Class is limited\, so sign up early.</span></span><br />\n&nbsp\;
LOCATION:ABCNA 26670 Success Dr Ste G Madison\, AL 35675
UID:e.9143.790
SEQUENCE:3
DTSTAMP:20260426T015519Z
URL:https://business.abcnalabama.org/events/details/first-aid-cpr-aed-certification-class-790
END:VEVENT

END:VCALENDAR
