BEGIN:VCALENDAR
VERSION:2.0
PRODID:-//ChamberMaster//Event Calendar 2.0//EN
METHOD:PUBLISH
X-PUBLISHED-TTL:P3D
REFRESH-INTERVAL:P3D
CALSCALE:GREGORIAN
BEGIN:VEVENT
DTSTART:20200313T130000Z
DTEND:20200313T160000Z
X-MICROSOFT-CDO-ALLDAYEVENT:FALSE
SUMMARY:Free Education Friday: Active Shooter Training
DESCRIPTION:Join us as we introduce "Free Education Fridays" at ABC North Alabama. The first session will focus on Active Shooter Training. There is no fee to attend\, but please RSVP.
X-ALT-DESC;FMTTYPE=text/html:Join us as we introduce &quot\;Free Education Fridays&quot\; at ABC North Alabama. The first session will focus on Active Shooter Training. There is no fee to attend\, but please RSVP.&nbsp\;&nbsp\;&nbsp\;&nbsp\;&nbsp\;&nbsp\;&nbsp\;&nbsp\;&nbsp\;
LOCATION:ABC North Alabama 107 Commerce Cir Madison\, AL 35758
UID:e.9143.815
SEQUENCE:3
DTSTAMP:20260425T174006Z
URL:https://business.abcnalabama.org/events/details/free-education-friday-active-shooter-training-815
END:VEVENT

END:VCALENDAR
