BEGIN:VCALENDAR
VERSION:2.0
PRODID:-//ChamberMaster//Event Calendar 2.0//EN
METHOD:PUBLISH
X-PUBLISHED-TTL:P3D
REFRESH-INTERVAL:P3D
CALSCALE:GREGORIAN
BEGIN:VEVENT
DTSTART:20240612T210000Z
DTEND:20240612T230000Z
X-MICROSOFT-CDO-ALLDAYEVENT:FALSE
SUMMARY:Free Enterprise Alliance Reception
DESCRIPTION:ABC North Alabama Free Enterprise Alliance Reception Fundraiser
X-ALT-DESC;FMTTYPE=text/html:ABC North Alabama Free Enterprise Alliance Reception Fundraiser
LOCATION:106 Jefferson Hotel Baker & Abel Rooftop Bar
UID:e.9143.1194
SEQUENCE:3
DTSTAMP:20260421T184341Z
URL:https://business.abcnalabama.org/events/details/free-enterprise-alliance-reception-1194
END:VEVENT

END:VCALENDAR
